BEGIN:VCALENDAR
VERSION:2.0
PRODID:-//Plone.org//NONSGML plone.app.event//EN
X-WR-TIMEZONE:America/Maceio
BEGIN:VEVENT
SUMMARY:Banca de Defesa de Dissertação
DTSTART;TZID=America/Maceio:20240118T140000
DTEND;TZID=America/Maceio:20240118T160000
DTSTAMP:20260420T172443Z
UID:0287b0f57fba42428ae51b18a1052c10@ip.ufal.br
ATTENDEE;CN="MARILIA SILVEIRA (ORIENTADOR)	mariliasilveira.rs@gmail.com	UF
 AL	Presidente";ROLE=REQ-PARTICIPANT:MARILIA SILVEIRA (ORIENTADOR)	marilias
 ilveira.rs@gmail.com	UFAL	Presidente
ATTENDEE;CN="ANTONIO CESAR DE HOLANDA SANTOS	antonio.santos@palmeira.ufal.
 br	UFAL	Interno(a)";ROLE=REQ-PARTICIPANT:ANTONIO CESAR DE HOLANDA SANTOS	a
 ntonio.santos@palmeira.ufal.br	UFAL	Interno(a)
ATTENDEE;CN="MARIA PÁSCOA SARMENTO DE SOUSA	marpasc@ufpa.br	UFPA	Externo(
 a) à Instituição";ROLE=REQ-PARTICIPANT:MARIA PÁSCOA SARMENTO DE SOUSA	
 marpasc@ufpa.br	UFPA	Externo(a) à Instituição
ATTENDEE;CN="JONÊ CARLA BAIÃO	jonebaiao@gmail.com	UERJ	Externo(a) à Ins
 tituição";ROLE=REQ-PARTICIPANT:JONÊ CARLA BAIÃO	jonebaiao@gmail.com	UE
 RJ	Externo(a) à Instituição
CREATED:20250321T232323Z
DESCRIPTION:Defesa de Dissertação do(a) Discente: JEANYCE GABRIELA ARAÚ
 JO\; Título: A HISTÓRIA DA MÃE ÓRFÃ DE FILHA VIVA: O JEITO QUILOMBOLA
  DE CUIDAR DA CABEÇA DESORÍENTADA.
LAST-MODIFIED:20250702T221513Z
LOCATION:Videoconferência
URL:https://ip.ufal.br/pt-br/pos-graduacao/pospsico/institucional/calendar
 io-de-defesas/2024/banca-de-defesa-de-dissertacao
END:VEVENT
BEGIN:VTIMEZONE
TZID:America/Maceio
X-LIC-LOCATION:America/Maceio
BEGIN:STANDARD
DTSTART:20020216T230000
TZNAME:-03
TZOFFSETFROM:-0200
TZOFFSETTO:-0300
END:STANDARD
END:VTIMEZONE
END:VCALENDAR
