BEGIN:VCALENDAR
VERSION:2.0
PRODID:-//Plone.org//NONSGML plone.app.event//EN
X-WR-TIMEZONE:America/Maceio
BEGIN:VEVENT
SUMMARY:Banca de Defesa de Dissertação
DTSTART;TZID=America/Maceio:20240430T090000
DTEND;TZID=America/Maceio:20240430T110000
DTSTAMP:20260420T182213Z
UID:422640ae823f4c3a9209bb5f7b2e76f9@ip.ufal.br
ATTENDEE;CN="JEFFERSON DE SOUZA BERNARDES (ORIENTADOR)	jefferson.bernardes
 @ip.ufal.br	UFAL	Presidente";ROLE=REQ-PARTICIPANT:JEFFERSON DE SOUZA BERNA
 RDES (ORIENTADOR)	jefferson.bernardes@ip.ufal.br	UFAL	Presidente
ATTENDEE;CN="MARIA AUXILIADORA TEIXEIRA RIBEIRO	maria.ribeiro@ip.ufal.br	U
 FAL	Interno(a)";ROLE=REQ-PARTICIPANT:MARIA AUXILIADORA TEIXEIRA RIBEIRO	ma
 ria.ribeiro@ip.ufal.br	UFAL	Interno(a)
ATTENDEE;CN="CRISTINA CAMELO DE AZEVEDO	cristina@ip.ufal.br	UFAL	Externo(a
 ) ao Programa";ROLE=REQ-PARTICIPANT:CRISTINA CAMELO DE AZEVEDO	cristina@ip
 .ufal.br	UFAL	Externo(a) ao Programa
ATTENDEE;CN="MICHELLE JACINTHA CAVALCANTE OLIVEIRA	michelle.oliveira@famed
 .ufal.br	UFAL	Externo(a) ao Programa";ROLE=REQ-PARTICIPANT:MICHELLE JACINT
 HA CAVALCANTE OLIVEIRA	michelle.oliveira@famed.ufal.br	UFAL	Externo(a) ao 
 Programa
CREATED:20250322T000352Z
DESCRIPTION:Defesa de Dissertação do(a) Discente: JUNIA COSTA VAZ DE ALM
 EIDA\; Título: Hemodiálise e Práticas de Cuidado: Produção de Sentido
 s na Equipe de Saúde.
LAST-MODIFIED:20250702T221513Z
LOCATION:Sala 5 - Centro de Estudos HUPAA
URL:https://ip.ufal.br/pt-br/pos-graduacao/pospsico/institucional/calendar
 io-de-defesas/2024/banca-de-defesa-de-dissertacao-9
END:VEVENT
BEGIN:VTIMEZONE
TZID:America/Maceio
X-LIC-LOCATION:America/Maceio
BEGIN:STANDARD
DTSTART:20020216T230000
TZNAME:-03
TZOFFSETFROM:-0200
TZOFFSETTO:-0300
END:STANDARD
END:VTIMEZONE
END:VCALENDAR
