BEGIN:VCALENDAR
VERSION:2.0
PRODID:-//Plone.org//NONSGML plone.app.event//EN
X-WR-TIMEZONE:America/Maceio
BEGIN:VEVENT
SUMMARY:Banca de Defesa de Dissertação
DTSTART;TZID=America/Maceio:20240426T140000
DTEND;TZID=America/Maceio:20240426T160000
DTSTAMP:20260420T143702Z
UID:bbe0af85573244f082806ceb81135baf@ip.ufal.br
ATTENDEE;CN="PAULA ORCHIUCCI MIURA (ORIENTADOR)	paula.miura@ip.ufal.br	UFA
 L	Presidente";ROLE=REQ-PARTICIPANT:PAULA ORCHIUCCI MIURA (ORIENTADOR)	paul
 a.miura@ip.ufal.br	UFAL	Presidente
ATTENDEE;CN="ANGELINA NUNES DE VASCONCELOS	angelina.vasconcelos@ip.ufal.br
 	UFAL	Interno(a)";ROLE=REQ-PARTICIPANT:ANGELINA NUNES DE VASCONCELOS	angel
 ina.vasconcelos@ip.ufal.br	UFAL	Interno(a)
ATTENDEE;CN="LEILA SALOMÃO DE LA PLATA CURY TARDIVO	tardivo@usp.br	USP	Ex
 terno(a) à Instituição";ROLE=REQ-PARTICIPANT:LEILA SALOMÃO DE LA PLATA
  CURY TARDIVO	tardivo@usp.br	USP	Externo(a) à Instituição
CREATED:20250321T235928Z
DESCRIPTION:Defesa de Dissertação do(a) Discente: ANA CAROLINE DOS SANTO
 S SILVA\; Título: OFICINAS LÚDICAS COM O PÚBLICO INFANTIL NA PREVENÇÃ
 O À VIOLÊNCIA CONTRA CRIANÇAS.
LAST-MODIFIED:20250702T221513Z
LOCATION:Videoconferência
URL:https://ip.ufal.br/pt-br/pos-graduacao/pospsico/institucional/calendar
 io-de-defesas/2024/banca-de-defesa-de-dissertacao-8
END:VEVENT
BEGIN:VTIMEZONE
TZID:America/Maceio
X-LIC-LOCATION:America/Maceio
BEGIN:STANDARD
DTSTART:20020216T230000
TZNAME:-03
TZOFFSETFROM:-0200
TZOFFSETTO:-0300
END:STANDARD
END:VTIMEZONE
END:VCALENDAR
