BEGIN:VCALENDAR
VERSION:2.0
PRODID:-//Plone.org//NONSGML plone.app.event//EN
X-WR-TIMEZONE:America/Maceio
BEGIN:VEVENT
SUMMARY:Banca de Defesa de Dissertação
DTSTART;TZID=America/Maceio:20240426T090000
DTEND;TZID=America/Maceio:20240426T110000
DTSTAMP:20260420T203137Z
UID:39ce77e7f4c4402cad188e181cc4036a@ip.ufal.br
ATTENDEE;CN="PAULA ORCHIUCCI MIURA (ORIENTADOR)	paula.miura@ip.ufal.br	UFA
 L	Presidente";ROLE=REQ-PARTICIPANT:PAULA ORCHIUCCI MIURA (ORIENTADOR)	paul
 a.miura@ip.ufal.br	UFAL	Presidente
ATTENDEE;CN="ANGELINA NUNES DE VASCONCELOS	angelina.vasconcelos@ip.ufal.br
 	UFAL	Interno(a)";ROLE=REQ-PARTICIPANT:ANGELINA NUNES DE VASCONCELOS	angel
 ina.vasconcelos@ip.ufal.br	UFAL	Interno(a)
ATTENDEE;CN="LEILA SALOMÃO DE LA PLATA CURY TARDIVO	tardivo@usp.br	USP	Ex
 terno(a) à Instituição";ROLE=REQ-PARTICIPANT:LEILA SALOMÃO DE LA PLATA
  CURY TARDIVO	tardivo@usp.br	USP	Externo(a) à Instituição
CREATED:20250321T235547Z
DESCRIPTION:Defesa de Dissertação do(a) Discente: ESTEFANE FIRMINO DE OL
 IVEIRA LIMA\; Título: PREVENÇÃO À VIOLÊNCIA CONTRA CRIANÇAS E ADOLES
 CENTES: oficinas com jovens no contexto escolar.
LAST-MODIFIED:20250702T221513Z
LOCATION:Videoconferência
URL:https://ip.ufal.br/pt-br/pos-graduacao/pospsico/institucional/calendar
 io-de-defesas/2024/banca-de-defesa-de-dissertacao-7
END:VEVENT
BEGIN:VTIMEZONE
TZID:America/Maceio
X-LIC-LOCATION:America/Maceio
BEGIN:STANDARD
DTSTART:20020216T230000
TZNAME:-03
TZOFFSETFROM:-0200
TZOFFSETTO:-0300
END:STANDARD
END:VTIMEZONE
END:VCALENDAR
