BEGIN:VCALENDAR
VERSION:2.0
PRODID:-//Plone.org//NONSGML plone.app.event//EN
X-WR-TIMEZONE:America/Maceio
BEGIN:VEVENT
SUMMARY:Banca de Defesa de Dissertação
DTSTART;TZID=America/Maceio:20240425T090000
DTEND;TZID=America/Maceio:20240425T110000
DTSTAMP:20260420T143702Z
UID:5e18e5c6e42e449b8b6673b897ddd172@ip.ufal.br
ATTENDEE;CN="ANGELINA NUNES DE VASCONCELOS (ORIENTADOR)	angelina.vasconcel
 os@ip.ufal.br	UFAL	Presidente";ROLE=REQ-PARTICIPANT:ANGELINA NUNES DE VASC
 ONCELOS (ORIENTADOR)	angelina.vasconcelos@ip.ufal.br	UFAL	Presidente
ATTENDEE;CN="PAULA ORCHIUCCI MIURA	paula.miura@ip.ufal.br	UFAL	Interno(a)"
 ;ROLE=REQ-PARTICIPANT:PAULA ORCHIUCCI MIURA	paula.miura@ip.ufal.br	UFAL	In
 terno(a)
ATTENDEE;CN="GABRIEL FORTES CAVALCANTI DE MACÊDO	gabriel.macedo@nees.ufal
 .br	UFPE	Externo(a) à Instituição";ROLE=REQ-PARTICIPANT:GABRIEL FORTES 
 CAVALCANTI DE MACÊDO	gabriel.macedo@nees.ufal.br	UFPE	Externo(a) à Insti
 tuição
CREATED:20250321T234901Z
DESCRIPTION:Defesa de Dissertação do(a) Discente: SÂMARHA SANTOS SILVA 
 COSMO\; Título: AS IMPLICAÇÕES DO ISOLAMENTO SOCIAL NA CONSTRUÇÃO DE 
 NARRATIVAS INFANTIS DURANTE O PROCESSO DE RETOMADA DO ENSINO PRESENCIAL.
LAST-MODIFIED:20250702T221513Z
LOCATION:Videoconferência
URL:https://ip.ufal.br/pt-br/pos-graduacao/pospsico/institucional/calendar
 io-de-defesas/2024/banca-de-defesa-de-dissertacao-6
END:VEVENT
BEGIN:VTIMEZONE
TZID:America/Maceio
X-LIC-LOCATION:America/Maceio
BEGIN:STANDARD
DTSTART:20020216T230000
TZNAME:-03
TZOFFSETFROM:-0200
TZOFFSETTO:-0300
END:STANDARD
END:VTIMEZONE
END:VCALENDAR
