BEGIN:VCALENDAR
VERSION:2.0
PRODID:-//Plone.org//NONSGML plone.app.event//EN
X-WR-TIMEZONE:America/Maceio
BEGIN:VEVENT
SUMMARY:Banca de Defesa de Dissertação
DTSTART;TZID=America/Maceio:20240326T090000
DTEND;TZID=America/Maceio:20240326T110000
DTSTAMP:20260420T172442Z
UID:e187557767fc47d9bcbbb96c2f097295@ip.ufal.br
ATTENDEE;CN="JEFFERSON DE SOUZA BERNARDES (ORIENTADOR)	jefferson.bernardes
 @ip.ufal.br	UFAL	Presidente";ROLE=REQ-PARTICIPANT:JEFFERSON DE SOUZA BERNA
 RDES (ORIENTADOR)	jefferson.bernardes@ip.ufal.br	UFAL	Presidente
ATTENDEE;CN="CHARLES ELIAS LANG	charles.lang@ip.ufal.br	UFAL	Interno(a)";R
 OLE=REQ-PARTICIPANT:CHARLES ELIAS LANG	charles.lang@ip.ufal.br	UFAL	Intern
 o(a)
ATTENDEE;CN="TELMA LOW SILVA JUNQUEIRA	telma.low@ip.ufal.br	UFAL	Interno(a
 )";ROLE=REQ-PARTICIPANT:TELMA LOW SILVA JUNQUEIRA	telma.low@ip.ufal.br	UFA
 L	Interno(a)
ATTENDEE;CN="CARLA GUANAES LORENZI	carlaguanaes@usp.br	USP	Externo(a) à I
 nstituição";ROLE=REQ-PARTICIPANT:CARLA GUANAES LORENZI	carlaguanaes@usp.
 br	USP	Externo(a) à Instituição
CREATED:20250321T234544Z
DESCRIPTION:Defesa de Dissertação do(a) Discente: MAYARA SUZY SANTANA CA
 MELO\; Título: “VOCÊ ESTÁ ME OUVINDO?” PRÁTICAS PROFISSIONAIS MEDI
 ADAS POR TECNOLOGIAS DA INFORMAÇÃO E COMUNICAÇÃO..
LAST-MODIFIED:20250702T221513Z
LOCATION:Evento híbrido (Videoconferência na Sala 33 do Instituto de Psi
 cologia)
URL:https://ip.ufal.br/pt-br/pos-graduacao/pospsico/institucional/calendar
 io-de-defesas/2024/banca-de-defesa-de-dissertacao-5
END:VEVENT
BEGIN:VTIMEZONE
TZID:America/Maceio
X-LIC-LOCATION:America/Maceio
BEGIN:STANDARD
DTSTART:20020216T230000
TZNAME:-03
TZOFFSETFROM:-0200
TZOFFSETTO:-0300
END:STANDARD
END:VTIMEZONE
END:VCALENDAR
