BEGIN:VCALENDAR
VERSION:2.0
PRODID:-//Plone.org//NONSGML plone.app.event//EN
X-WR-TIMEZONE:America/Maceio
BEGIN:VEVENT
SUMMARY:Banca de Defesa de Dissertação
DTSTART;TZID=America/Maceio:20240322T150000
DTEND;TZID=America/Maceio:20240322T170000
DTSTAMP:20260420T222328Z
UID:96d0f96f1bc046efb6f9d34419cc3559@ip.ufal.br
ATTENDEE;CN="LEOGILDO ALVES FREIRES (ORIENTADOR)	leogildo.freires@ip.ufal.
 br	UFAL	Presidente";ROLE=REQ-PARTICIPANT:LEOGILDO ALVES FREIRES (ORIENTADO
 R)	leogildo.freires@ip.ufal.br	UFAL	Presidente
ATTENDEE;CN="SHEYLA CHRISTINE SANTOS FERNANDES	sheyla.fernandes@ip.ufal.br
 	UFAL	Interno(a)";ROLE=REQ-PARTICIPANT:SHEYLA CHRISTINE SANTOS FERNANDES	s
 heyla.fernandes@ip.ufal.br	UFAL	Interno(a)
ATTENDEE;CN="IG IBERT BITTENCOURT SANTANA PINTO	ig.ibert@gmail.com	UFAL	Ex
 terno(a) ao Programa";ROLE=REQ-PARTICIPANT:IG IBERT BITTENCOURT SANTANA PI
 NTO	ig.ibert@gmail.com	UFAL	Externo(a) ao Programa
ATTENDEE;CN="GLEIDSON DIEGO LOPES LOURETO	diego.loureto@ufrr.br	UFRR	Exter
 no(a) à Instituição";ROLE=REQ-PARTICIPANT:GLEIDSON DIEGO LOPES LOURETO	
 diego.loureto@ufrr.br	UFRR	Externo(a) à Instituição
ATTENDEE;CN=;ROLE=REQ-PARTICIPANT:
CREATED:20250321T234124Z
DESCRIPTION:Defesa de Dissertação do(a) Discente: JULIO CEZAR ALBUQUERQU
 E DA COSTA\; Título: ESTRESSE ACADÊMICO E MAL-ESTAR PSICOLÓGICO: UMA PE
 RSPECTIVA DE ESTUDANTES DE PÓS-\nGRADUAÇÃO.
LAST-MODIFIED:20250702T221513Z
LOCATION:Videoconferência
URL:https://ip.ufal.br/pt-br/pos-graduacao/pospsico/institucional/calendar
 io-de-defesas/2024/banca-de-defesa-de-dissertacao-4
END:VEVENT
BEGIN:VTIMEZONE
TZID:America/Maceio
X-LIC-LOCATION:America/Maceio
BEGIN:STANDARD
DTSTART:20020216T230000
TZNAME:-03
TZOFFSETFROM:-0200
TZOFFSETTO:-0300
END:STANDARD
END:VTIMEZONE
END:VCALENDAR
