BEGIN:VCALENDAR
VERSION:2.0
PRODID:-//Plone.org//NONSGML plone.app.event//EN
X-WR-TIMEZONE:America/Maceio
BEGIN:VEVENT
SUMMARY:Banca de Defesa de Dissertação
DTSTART;TZID=America/Maceio:20240227T150000
DTEND;TZID=America/Maceio:20240227T170000
DTSTAMP:20260420T222329Z
UID:c3728fac6de14edeb030d1835dbcaf74@ip.ufal.br
ATTENDEE;CN="JEFFERSON DE SOUZA BERNARDES (ORIENTADOR)	jefferson.bernardes
 @ip.ufal.br	UFAL	Presidente";ROLE=REQ-PARTICIPANT:JEFFERSON DE SOUZA BERNA
 RDES (ORIENTADOR)	jefferson.bernardes@ip.ufal.br	UFAL	Presidente
ATTENDEE;CN="LAZARO BATISTA DA FONSECA	lazaro.batista@palmeira.ufal.br	UFA
 L	Interno(a)";ROLE=REQ-PARTICIPANT:LAZARO BATISTA DA FONSECA	lazaro.batist
 a@palmeira.ufal.br	UFAL	Interno(a)
ATTENDEE;CN="TELMA LOW SILVA JUNQUEIRA (COORIENTADOR)	telma.low@ip.ufal.br
 	UFAL	Interno(a)";ROLE=REQ-PARTICIPANT:TELMA LOW SILVA JUNQUEIRA (COORIENT
 ADOR)	telma.low@ip.ufal.br	UFAL	Interno(a)
ATTENDEE;CN="CRISTINA CAMELO DE AZEVEDO	cristina@ip.ufal.br	UFAL	Externo(a
 ) ao Programa";ROLE=REQ-PARTICIPANT:CRISTINA CAMELO DE AZEVEDO	cristina@ip
 .ufal.br	UFAL	Externo(a) ao Programa
ATTENDEE;CN="LUCIANO BAIRROS DA SILVA	lucianopsico@yahoo.com.br	UNCISAL	Ex
 terno(a) à Instituição";ROLE=REQ-PARTICIPANT:LUCIANO BAIRROS DA SILVA	l
 ucianopsico@yahoo.com.br	UNCISAL	Externo(a) à Instituição
ATTENDEE;CN="ÉLIDA AZEVEDO HENNINGTON	elidahennington@gmail.com	Fiocruz -
  RJ	Externo(a) à Instituição";ROLE=REQ-PARTICIPANT:ÉLIDA AZEVEDO HENNI
 NGTON	elidahennington@gmail.com	Fiocruz - RJ	Externo(a) à Instituição
CREATED:20250321T233740Z
DESCRIPTION:Defesa de Dissertação do(a) Discente: JÉSSICA MARIA DE OLIV
 EIRA SILVA\; Título: Política Nacional de Humanização: sentidos produz
 idos sobre o acolhimento em saúde.
LAST-MODIFIED:20250702T221513Z
LOCATION:Sala 33\, do Instituto de Psicologia
URL:https://ip.ufal.br/pt-br/pos-graduacao/pospsico/institucional/calendar
 io-de-defesas/2024/banca-de-defesa-de-dissertacao-3
END:VEVENT
BEGIN:VTIMEZONE
TZID:America/Maceio
X-LIC-LOCATION:America/Maceio
BEGIN:STANDARD
DTSTART:20020216T230000
TZNAME:-03
TZOFFSETFROM:-0200
TZOFFSETTO:-0300
END:STANDARD
END:VTIMEZONE
END:VCALENDAR
