BEGIN:VCALENDAR
VERSION:2.0
PRODID:-//Plone.org//NONSGML plone.app.event//EN
X-WR-TIMEZONE:America/Maceio
BEGIN:VEVENT
SUMMARY:Banca de Defesa de Dissertação
DTSTART;TZID=America/Maceio:20241219T140000
DTEND;TZID=America/Maceio:20241219T170000
DTSTAMP:20260420T182401Z
UID:ec49799695414f23a4e6342cab5faad1@ip.ufal.br
ATTENDEE;CN="LEOGILDO ALVES FREIRES (ORIENTADOR)	leogildo.freires@ip.ufal.
 br	UFAL	Presidente";ROLE=REQ-PARTICIPANT:LEOGILDO ALVES FREIRES (ORIENTADO
 R)	leogildo.freires@ip.ufal.br	UFAL	Presidente
ATTENDEE;CN="JORGE ARTUR PECANHA DE MIRANDA COELHO (COORIENTADOR)	jorge.co
 elho@famed.ufal.br	UFAL	Interno(a)";ROLE=REQ-PARTICIPANT:JORGE ARTUR PECAN
 HA DE MIRANDA COELHO (COORIENTADOR)	jorge.coelho@famed.ufal.br	UFAL	Intern
 o(a)
ATTENDEE;CN="SHEYLA CHRISTINE SANTOS FERNANDES	sheyla.fernandes@ip.ufal.br
 	UFAL	Interno(a)";ROLE=REQ-PARTICIPANT:SHEYLA CHRISTINE SANTOS FERNANDES	s
 heyla.fernandes@ip.ufal.br	UFAL	Interno(a)
ATTENDEE;CN="ESTEFÂNEA ÉLIDA DA SILVA GUSMÃO	estefanea@gmail.com	UFBA	E
 xterno(a) à Instituição";ROLE=REQ-PARTICIPANT:ESTEFÂNEA ÉLIDA DA SILV
 A GUSMÃO	estefanea@gmail.com	UFBA	Externo(a) à Instituição
ATTENDEE;CN="Emerson Diogenes de Medeiros	emersondiogenes@gmail.com	UFDPAR
 	Externo(a) à Instituição";ROLE=REQ-PARTICIPANT:Emerson Diogenes de Med
 eiros	emersondiogenes@gmail.com	UFDPAR	Externo(a) à Instituição
CREATED:20250422T190456Z
DESCRIPTION:Defesa de Dissertação do(a) Discente: ELEN DE SOUZA RANGEL\;
  Título: PROPRIEDADES PSICOMÉTRICAS DA CHILDHOOD AUTISM RATING SCALE 2: 
 REVISÃO SISTEMÁTICA E METANÁLISE.
LAST-MODIFIED:20250702T221513Z
LOCATION:Webconferência
URL:https://ip.ufal.br/pt-br/pos-graduacao/pospsico/institucional/calendar
 io-de-defesas/2024/banca-de-defesa-de-dissertacao-23
END:VEVENT
BEGIN:VTIMEZONE
TZID:America/Maceio
X-LIC-LOCATION:America/Maceio
BEGIN:STANDARD
DTSTART:20020216T230000
TZNAME:-03
TZOFFSETFROM:-0200
TZOFFSETTO:-0300
END:STANDARD
END:VTIMEZONE
END:VCALENDAR
