BEGIN:VCALENDAR
VERSION:2.0
PRODID:-//Plone.org//NONSGML plone.app.event//EN
X-WR-TIMEZONE:America/Maceio
BEGIN:VEVENT
SUMMARY:Banca de Defesa de Dissertação
DTSTART;TZID=America/Maceio:20241217T090000
DTEND;TZID=America/Maceio:20241217T120000
DTSTAMP:20260420T182400Z
UID:0518bf3e05b74d9e96df4cbc338c1964@ip.ufal.br
ATTENDEE;CN="LEOGILDO ALVES FREIRES (ORIENTADOR)	leogildo.freires@ip.ufal.
 br	UFAL	Presidente";ROLE=REQ-PARTICIPANT:LEOGILDO ALVES FREIRES (ORIENTADO
 R)	leogildo.freires@ip.ufal.br	UFAL	Presidente
ATTENDEE;CN="JORGE ARTUR PECANHA DE MIRANDA COELHO	jorge.coelho@famed.ufal
 .br	UFAL	Interno(a)";ROLE=REQ-PARTICIPANT:JORGE ARTUR PECANHA DE MIRANDA C
 OELHO	jorge.coelho@famed.ufal.br	UFAL	Interno(a)
ATTENDEE;CN="GLEIDSON DIEGO LOPES LOURETO (COORIENTADOR)	diego.loureto@ufr
 r.br	UFRR	Externo(a) à Instituição";ROLE=REQ-PARTICIPANT:GLEIDSON DIEGO
  LOPES LOURETO (COORIENTADOR)	diego.loureto@ufrr.br	UFRR	Externo(a) à Ins
 tituição
ATTENDEE;CN="João Gabriel Nunes Modesto	joao.modesto@ueg.br	Outros(as)	Ex
 terno(a) à Instituição";ROLE=REQ-PARTICIPANT:João Gabriel Nunes Modest
 o	joao.modesto@ueg.br	Outros(as)	Externo(a) à Instituição
CREATED:20250422T190155Z
DESCRIPTION:Defesa de Dissertação do(a) Discente:  ELISABELLE CAVALCANTE
  AGOSTINHO\; Título: Estresse Acadêmico e Mal-estar Psicológico: Uma pe
 rspectiva de técnicos administrativos em educação.
LAST-MODIFIED:20250702T221513Z
LOCATION:Webconferência
URL:https://ip.ufal.br/pt-br/pos-graduacao/pospsico/institucional/calendar
 io-de-defesas/2024/banca-de-defesa-de-dissertacao-22
END:VEVENT
BEGIN:VTIMEZONE
TZID:America/Maceio
X-LIC-LOCATION:America/Maceio
BEGIN:STANDARD
DTSTART:20020216T230000
TZNAME:-03
TZOFFSETFROM:-0200
TZOFFSETTO:-0300
END:STANDARD
END:VTIMEZONE
END:VCALENDAR
