BEGIN:VCALENDAR
VERSION:2.0
PRODID:-//Plone.org//NONSGML plone.app.event//EN
X-WR-TIMEZONE:America/Maceio
BEGIN:VEVENT
SUMMARY:Banca de Defesa de Dissertação
DTSTART;TZID=America/Maceio:20241204T113000
DTEND;TZID=America/Maceio:20241204T143000
DTSTAMP:20260420T162458Z
UID:f8016f1eb21343119329fafe2e262fc8@ip.ufal.br
ATTENDEE;CN="MARILIA SILVEIRA (ORIENTADOR)	mariliasilveira.rs@gmail.com	UF
 AL	Presidente";ROLE=REQ-PARTICIPANT:MARILIA SILVEIRA (ORIENTADOR)	marilias
 ilveira.rs@gmail.com	UFAL	Presidente
ATTENDEE;CN="LAZARO BATISTA DA FONSECA	lazaro.batista@palmeira.ufal.br	UFA
 L	Interno(a)";ROLE=REQ-PARTICIPANT:LAZARO BATISTA DA FONSECA	lazaro.batist
 a@palmeira.ufal.br	UFAL	Interno(a)
ATTENDEE;CN="MARIA AUXILIADORA TEIXEIRA RIBEIRO	maria.ribeiro@ip.ufal.br	U
 FAL	Interno(a)";ROLE=REQ-PARTICIPANT:MARIA AUXILIADORA TEIXEIRA RIBEIRO	ma
 ria.ribeiro@ip.ufal.br	UFAL	Interno(a)
ATTENDEE;CN="MONICA SESMA VAZQUEZ	msesmava@ucalgary.ca	UCAL	Externo(a) à 
 Instituição";ROLE=REQ-PARTICIPANT:MONICA SESMA VAZQUEZ	msesmava@ucalgary
 .ca	UCAL	Externo(a) à Instituição
ATTENDEE;CN="MARIO HENRIQUE DA MATA MARTINS	mario.martins@palmeira.ufal.br
 	UFSCAR	Externo(a) à Instituição";ROLE=REQ-PARTICIPANT:MARIO HENRIQUE D
 A MATA MARTINS	mario.martins@palmeira.ufal.br	UFSCAR	Externo(a) à Institu
 ição
ATTENDEE;CN=;ROLE=REQ-PARTICIPANT:
CREATED:20250422T185858Z
DESCRIPTION:Defesa de Dissertação do(a) Discente: NAYARA RITA CARDOSO CA
 MPOS\; Título: Cartografando pelas Bordas: Uma Análise Situacional das c
 onsequências da mineração em Maceió - AL.
LAST-MODIFIED:20250702T221513Z
LOCATION:Webconferência
URL:https://ip.ufal.br/pt-br/pos-graduacao/pospsico/institucional/calendar
 io-de-defesas/2024/banca-de-defesa-de-dissertacao-21
END:VEVENT
BEGIN:VTIMEZONE
TZID:America/Maceio
X-LIC-LOCATION:America/Maceio
BEGIN:STANDARD
DTSTART:20020216T230000
TZNAME:-03
TZOFFSETFROM:-0200
TZOFFSETTO:-0300
END:STANDARD
END:VTIMEZONE
END:VCALENDAR
