BEGIN:VCALENDAR
VERSION:2.0
PRODID:-//Plone.org//NONSGML plone.app.event//EN
X-WR-TIMEZONE:America/Maceio
BEGIN:VEVENT
SUMMARY:Banca de Defesa de Dissertação
DTSTART;TZID=America/Maceio:20241118T140000
DTEND;TZID=America/Maceio:20241118T170000
DTSTAMP:20260420T174848Z
UID:2c442bf8317845eab99a633bbfb8f65c@ip.ufal.br
ATTENDEE;CN="ADELIA AUGUSTA SOUTO DE OLIVEIRA (ORIENTADOR)	adeliasouto@ip.
 ufal.br	UFAL	Presidente";ROLE=REQ-PARTICIPANT:ADELIA AUGUSTA SOUTO DE OLIV
 EIRA (ORIENTADOR)	adeliasouto@ip.ufal.br	UFAL	Presidente
ATTENDEE;CN="ANTONIO CESAR DE HOLANDA SANTOS	antonio.santos@palmeira.ufal.
 br	UFAL	Interno(a)";ROLE=REQ-PARTICIPANT:ANTONIO CESAR DE HOLANDA SANTOS	a
 ntonio.santos@palmeira.ufal.br	UFAL	Interno(a)
ATTENDEE;CN="DIVINO DE JESUS DA SILVA RODRIGUES	divino.psi@pucgoias.edu.br
 		Externo(a) à Instituição";ROLE=REQ-PARTICIPANT:DIVINO DE JESUS DA SIL
 VA RODRIGUES	divino.psi@pucgoias.edu.br		Externo(a) à Instituição
CREATED:20250422T185535Z
DESCRIPTION:Defesa de Dissertação do(a) Discente: WILLAMESON VIEIRA SAND
 ES FERREIRA\; Título: O conceito de mediação vigotskiano na Psicologia:
  em estudo exploratório-descritivo.
LAST-MODIFIED:20250702T221513Z
LOCATION:Webconferência
URL:https://ip.ufal.br/pt-br/pos-graduacao/pospsico/institucional/calendar
 io-de-defesas/2024/banca-de-defesa-de-dissertacao-20
END:VEVENT
BEGIN:VTIMEZONE
TZID:America/Maceio
X-LIC-LOCATION:America/Maceio
BEGIN:STANDARD
DTSTART:20020216T230000
TZNAME:-03
TZOFFSETFROM:-0200
TZOFFSETTO:-0300
END:STANDARD
END:VTIMEZONE
END:VCALENDAR
