BEGIN:VCALENDAR
VERSION:2.0
PRODID:-//Plone.org//NONSGML plone.app.event//EN
X-WR-TIMEZONE:America/Maceio
BEGIN:VEVENT
SUMMARY:Banca de Defesa de Dissertação
DTSTART;TZID=America/Maceio:20240202T140000
DTEND;TZID=America/Maceio:20240202T160000
DTSTAMP:20260420T233439Z
UID:322f3158e2cc4fd28cb0ad57b2f528c4@ip.ufal.br
ATTENDEE;CN="SHEYLA CHRISTINE SANTOS FERNANDES (ORIENTADOR)	sheyla.fernand
 es@ip.ufal.br	UFAL	Presidente";ROLE=REQ-PARTICIPANT:SHEYLA CHRISTINE SANTO
 S FERNANDES (ORIENTADOR)	sheyla.fernandes@ip.ufal.br	UFAL	Presidente
ATTENDEE;CN="LEOGILDO ALVES FREIRES	leogildo.freires@ip.ufal.br	UFAL	Inter
 no(a)";ROLE=REQ-PARTICIPANT:LEOGILDO ALVES FREIRES	leogildo.freires@ip.ufa
 l.br	UFAL	Interno(a)
ATTENDEE;CN="MARCK DE SOUZA TORRES	marcktorres@ufam.edu.br	UFAM	Externo(a)
  à Instituição";ROLE=REQ-PARTICIPANT:MARCK DE SOUZA TORRES	marcktorres@
 ufam.edu.br	UFAM	Externo(a) à Instituição
ATTENDEE;CN="PEDRO AFONSO CORTEZ	cor.afonso@gmail.com	UTP	Externo(a) à In
 stituição";ROLE=REQ-PARTICIPANT:PEDRO AFONSO CORTEZ	cor.afonso@gmail.com
 	UTP	Externo(a) à Instituição
ATTENDEE;CN=;ROLE=REQ-PARTICIPANT:
CREATED:20250321T233319Z
DESCRIPTION:Defesa de Dissertação do(a) Discente: ALANDA MARIA FERRO PER
 EIRA\; Título: A/O Psicóloga/O Está Online: um Estudo Sobre o uso das R
 SO na Atualidade.
LAST-MODIFIED:20250702T221513Z
LOCATION:Videoconferência
URL:https://ip.ufal.br/pt-br/pos-graduacao/pospsico/institucional/calendar
 io-de-defesas/2024/banca-de-defesa-de-dissertacao-2
END:VEVENT
BEGIN:VTIMEZONE
TZID:America/Maceio
X-LIC-LOCATION:America/Maceio
BEGIN:STANDARD
DTSTART:20020216T230000
TZNAME:-03
TZOFFSETFROM:-0200
TZOFFSETTO:-0300
END:STANDARD
END:VTIMEZONE
END:VCALENDAR
