BEGIN:VCALENDAR
VERSION:2.0
PRODID:-//Plone.org//NONSGML plone.app.event//EN
X-WR-TIMEZONE:America/Maceio
BEGIN:VEVENT
SUMMARY:Banca de Defesa de Dissertação
DTSTART;TZID=America/Maceio:20240731T140000
DTEND;TZID=America/Maceio:20240731T170000
DTSTAMP:20260420T182401Z
UID:9c581b20776c48d5b6d3b92f7a710688@ip.ufal.br
ATTENDEE;CN="CLEYTON SIDNEY DE ANDRADE (ORIENTADOR)	cleyton.andrade@ip.ufa
 l.br	UFAL	Presidente";ROLE=REQ-PARTICIPANT:CLEYTON SIDNEY DE ANDRADE (ORIE
 NTADOR)	cleyton.andrade@ip.ufal.br	UFAL	Presidente
ATTENDEE;CN="SAULO LUDERS FERNANDES	saulo@ip.ufal.br	UFAL	Interno(a)";ROLE
 =REQ-PARTICIPANT:SAULO LUDERS FERNANDES	saulo@ip.ufal.br	UFAL	Interno(a)
ATTENDEE;CN="EDUARDO DE ALMEIDA NAVARRO	eduardonavarro@usp.br	USP	Externo(
 a) à Instituição";ROLE=REQ-PARTICIPANT:EDUARDO DE ALMEIDA NAVARRO	eduar
 donavarro@usp.br	USP	Externo(a) à Instituição
ATTENDEE;CN="Marcus André Vieira	mav@litura.com.br	PUC - RJ	Externo(a) à
  Instituição";ROLE=REQ-PARTICIPANT:Marcus André Vieira	mav@litura.com.b
 r	PUC - RJ	Externo(a) à Instituição
CREATED:20250422T185217Z
DESCRIPTION:Defesa de Dissertação do(a) Discente: JOSÉ AUGUSTO ROCHA DE
  OLIVEIRA\; Título: Dizer-se Potiguara: um estudo sobre a revitalização
  do tupi antigo entre os Potiguara da Paraíba.
LAST-MODIFIED:20250702T221513Z
LOCATION:Webconferência
URL:https://ip.ufal.br/pt-br/pos-graduacao/pospsico/institucional/calendar
 io-de-defesas/2024/banca-de-defesa-de-dissertacao-19
END:VEVENT
BEGIN:VTIMEZONE
TZID:America/Maceio
X-LIC-LOCATION:America/Maceio
BEGIN:STANDARD
DTSTART:20020216T230000
TZNAME:-03
TZOFFSETFROM:-0200
TZOFFSETTO:-0300
END:STANDARD
END:VTIMEZONE
END:VCALENDAR
