BEGIN:VCALENDAR
VERSION:2.0
PRODID:-//Plone.org//NONSGML plone.app.event//EN
X-WR-TIMEZONE:America/Maceio
BEGIN:VEVENT
SUMMARY:Banca de Defesa de Dissertação
DTSTART;TZID=America/Maceio:20240731T100000
DTEND;TZID=America/Maceio:20240731T130000
DTSTAMP:20260420T182400Z
UID:b8f402cfa7fa43a1ac567998d677b374@ip.ufal.br
ATTENDEE;CN="LEOGILDO ALVES FREIRES (ORIENTADOR)	leogildo.freires@ip.ufal.
 br	UFAL	Presidente";ROLE=REQ-PARTICIPANT:LEOGILDO ALVES FREIRES (ORIENTADO
 R)	leogildo.freires@ip.ufal.br	UFAL	Presidente
ATTENDEE;CN="SHEYLA CHRISTINE SANTOS FERNANDES	sheyla.fernandes@ip.ufal.br
 	UFAL	Interno(a)";ROLE=REQ-PARTICIPANT:SHEYLA CHRISTINE SANTOS FERNANDES	s
 heyla.fernandes@ip.ufal.br	UFAL	Interno(a)
ATTENDEE;CN="RAMIRO FIGUEIREDO CATELAN	ramirocatelan@gmail.com	UFRJ	Extern
 o(a) à Instituição";ROLE=REQ-PARTICIPANT:RAMIRO FIGUEIREDO CATELAN	rami
 rocatelan@gmail.com	UFRJ	Externo(a) à Instituição
CREATED:20250422T184931Z
DESCRIPTION:Defesa de Dissertação do(a) Discente: CRISTÓVÃO ALVES DE S
 OUZA FILHO\; Título: PRÁTICAS SEXUAIS DE USUÁRIOS DO GRINDR: ADOÇÃO E
  REJEIÇÃO DE ESTRATÉGIAS PROFILÁTICAS.
LAST-MODIFIED:20250702T221513Z
LOCATION:Webconferência
URL:https://ip.ufal.br/pt-br/pos-graduacao/pospsico/institucional/calendar
 io-de-defesas/2024/banca-de-defesa-de-dissertacao-18
END:VEVENT
BEGIN:VTIMEZONE
TZID:America/Maceio
X-LIC-LOCATION:America/Maceio
BEGIN:STANDARD
DTSTART:20020216T230000
TZNAME:-03
TZOFFSETFROM:-0200
TZOFFSETTO:-0300
END:STANDARD
END:VTIMEZONE
END:VCALENDAR
