BEGIN:VCALENDAR
VERSION:2.0
PRODID:-//Plone.org//NONSGML plone.app.event//EN
X-WR-TIMEZONE:America/Maceio
BEGIN:VEVENT
SUMMARY:Banca de Defesa de Dissertação
DTSTART;TZID=America/Maceio:20240730T140000
DTEND;TZID=America/Maceio:20240730T170000
DTSTAMP:20260420T182400Z
UID:6a08d6dc6cd54f59b4a02a1fd464b48c@ip.ufal.br
ATTENDEE;CN="CLEYTON SIDNEY DE ANDRADE (ORIENTADOR)	cleyton.andrade@ip.ufa
 l.br	UFAL	Presidente";ROLE=REQ-PARTICIPANT:CLEYTON SIDNEY DE ANDRADE (ORIE
 NTADOR)	cleyton.andrade@ip.ufal.br	UFAL	Presidente
ATTENDEE;CN="RODRIGO BARROS GEWEHR	rodrigo.gewehr@ip.ufal.br	UFAL	Interno(
 a)";ROLE=REQ-PARTICIPANT:RODRIGO BARROS GEWEHR	rodrigo.gewehr@ip.ufal.br	U
 FAL	Interno(a)
ATTENDEE;CN="PAULO ANTÔNIO DE CAMPOS BEER	paulobeer@usp.br	USP	Externo(a)
  à Instituição";ROLE=REQ-PARTICIPANT:PAULO ANTÔNIO DE CAMPOS BEER	paul
 obeer@usp.br	USP	Externo(a) à Instituição
ATTENDEE;CN="REGIANE LORENZETTI COLLARES	regiane.collares@ufca.edu.br	UFCA
 	Externo(a) à Instituição";ROLE=REQ-PARTICIPANT:REGIANE LORENZETTI COLL
 ARES	regiane.collares@ufca.edu.br	UFCA	Externo(a) à Instituição
CREATED:20250422T184643Z
DESCRIPTION:Defesa de Dissertação do(a) Discente: MARIA GABRIELA DA SILV
 A\; Título: DA EPISTEMOLOGIA CIENTÍFICO-NATURALISTA À NOÇÃO\nDE SUJEI
 TO EM LACAN: A RELAÇÃO ENTRE PSICANÁLISE E CIÊNCIA.
LAST-MODIFIED:20250702T221513Z
LOCATION:Webconferência
URL:https://ip.ufal.br/pt-br/pos-graduacao/pospsico/institucional/calendar
 io-de-defesas/2024/banca-de-defesa-de-dissertacao-17
END:VEVENT
BEGIN:VTIMEZONE
TZID:America/Maceio
X-LIC-LOCATION:America/Maceio
BEGIN:STANDARD
DTSTART:20020216T230000
TZNAME:-03
TZOFFSETFROM:-0200
TZOFFSETTO:-0300
END:STANDARD
END:VTIMEZONE
END:VCALENDAR
