BEGIN:VCALENDAR
VERSION:2.0
PRODID:-//Plone.org//NONSGML plone.app.event//EN
X-WR-TIMEZONE:America/Maceio
BEGIN:VEVENT
SUMMARY:Banca de Defesa de Dissertação
DTSTART;TZID=America/Maceio:20240730T090000
DTEND;TZID=America/Maceio:20240730T120000
DTSTAMP:20260420T152426Z
UID:6ac081809e3441b785513414df6b19a1@ip.ufal.br
ATTENDEE;CN="SAULO LUDERS FERNANDES (ORIENTADOR)	saulo@ip.ufal.br	UFAL	Pre
 sidente";ROLE=REQ-PARTICIPANT:SAULO LUDERS FERNANDES (ORIENTADOR)	saulo@ip
 .ufal.br	UFAL	Presidente
ATTENDEE;CN="ANTONIO CESAR DE HOLANDA SANTOS	antonio.santos@palmeira.ufal.
 br	UFAL	Interno(a)";ROLE=REQ-PARTICIPANT:ANTONIO CESAR DE HOLANDA SANTOS	a
 ntonio.santos@palmeira.ufal.br	UFAL	Interno(a)
ATTENDEE;CN="LARA BRUM DE CALAIS	laracalais@hotmail.com		Externo(a) à Ins
 tituição";ROLE=REQ-PARTICIPANT:LARA BRUM DE CALAIS	laracalais@hotmail.co
 m		Externo(a) à Instituição
CREATED:20250422T184048Z
DESCRIPTION:Defesa de Dissertação do(a) Discente: ROBERTO ALBUQUERQUE SA
 LSA\; Título: O Exercício da Amizade Política na Experiência do Compan
 heirismo entre Lideranças do MST de Alagoas.
LAST-MODIFIED:20250702T221513Z
LOCATION:Webconferência
URL:https://ip.ufal.br/pt-br/pos-graduacao/pospsico/institucional/calendar
 io-de-defesas/2024/banca-de-defesa-de-dissertacao-15
END:VEVENT
BEGIN:VTIMEZONE
TZID:America/Maceio
X-LIC-LOCATION:America/Maceio
BEGIN:STANDARD
DTSTART:20020216T230000
TZNAME:-03
TZOFFSETFROM:-0200
TZOFFSETTO:-0300
END:STANDARD
END:VTIMEZONE
END:VCALENDAR
