BEGIN:VCALENDAR
VERSION:2.0
PRODID:-//Plone.org//NONSGML plone.app.event//EN
X-WR-TIMEZONE:America/Maceio
BEGIN:VEVENT
SUMMARY:Banca de Defesa de Dissertação
DTSTART;TZID=America/Maceio:20240729T160000
DTEND;TZID=America/Maceio:20240729T180000
DTSTAMP:20260420T174849Z
UID:ed6b3c05d23b4d9a894087ef793d4742@ip.ufal.br
ATTENDEE;CN="SAULO LUDERS FERNANDES (ORIENTADOR)	saulo@ip.ufal.br	UFAL	Pre
 sidente";ROLE=REQ-PARTICIPANT:SAULO LUDERS FERNANDES (ORIENTADOR)	saulo@ip
 .ufal.br	UFAL	Presidente
ATTENDEE;CN="ANTONIO CESAR DE HOLANDA SANTOS	antonio.santos@palmeira.ufal.
 br	UFAL	Interno(a)";ROLE=REQ-PARTICIPANT:ANTONIO CESAR DE HOLANDA SANTOS	a
 ntonio.santos@palmeira.ufal.br	UFAL	Interno(a)
ATTENDEE;CN="LILIANA PARRA-VALENCIA	lilianaparrav@gmail.com	USP	Externo(a)
  à Instituição";ROLE=REQ-PARTICIPANT:LILIANA PARRA-VALENCIA	lilianaparr
 av@gmail.com	USP	Externo(a) à Instituição
ATTENDEE;CN="MARIA DA GRAÇA GOMES DA COSTA	mariaggomes@gmail.com	UFRN	Ext
 erno(a) à Instituição";ROLE=REQ-PARTICIPANT:MARIA DA GRAÇA GOMES DA CO
 STA	mariaggomes@gmail.com	UFRN	Externo(a) à Instituição
CREATED:20250422T183836Z
DESCRIPTION:Defesa de Dissertação do(a) Discente: PIERRA BEATRIZ CAVALCA
 NTE SILVA\; Título: NARRATIVAS DE CUIDADO E CURA: AS POLÍTICAS DE ESCRIT
 AS FEMINISTAS E AS PRÁTICAS COTIDIANAS NA JUREMA SAGRADA.
LAST-MODIFIED:20250702T221513Z
LOCATION:Webconferência
URL:https://ip.ufal.br/pt-br/pos-graduacao/pospsico/institucional/calendar
 io-de-defesas/2024/banca-de-defesa-de-dissertacao-14
END:VEVENT
BEGIN:VTIMEZONE
TZID:America/Maceio
X-LIC-LOCATION:America/Maceio
BEGIN:STANDARD
DTSTART:20020216T230000
TZNAME:-03
TZOFFSETFROM:-0200
TZOFFSETTO:-0300
END:STANDARD
END:VTIMEZONE
END:VCALENDAR
