BEGIN:VCALENDAR
VERSION:2.0
PRODID:-//Plone.org//NONSGML plone.app.event//EN
X-WR-TIMEZONE:America/Maceio
BEGIN:VEVENT
SUMMARY:Banca de Defesa de Dissertação
DTSTART;TZID=America/Maceio:20240729T090000
DTEND;TZID=America/Maceio:20240729T120000
DTSTAMP:20260420T180107Z
UID:ace088e671f747c2ae61283407a91d54@ip.ufal.br
ATTENDEE;CN="SAULO LUDERS FERNANDES (ORIENTADOR)	saulo@ip.ufal.br	UFAL	Pre
 sidente";ROLE=REQ-PARTICIPANT:SAULO LUDERS FERNANDES (ORIENTADOR)	saulo@ip
 .ufal.br	UFAL	Presidente
ATTENDEE;CN="ANTONIO CESAR DE HOLANDA SANTOS	antonio.santos@palmeira.ufal.
 br	UFAL	Interno(a)";ROLE=REQ-PARTICIPANT:ANTONIO CESAR DE HOLANDA SANTOS	a
 ntonio.santos@palmeira.ufal.br	UFAL	Interno(a)
ATTENDEE;CN="JÁDER FERREIRA LEITE	jaderfleite@gmail.com	UFRN	Externo(a) 
 à Instituição";ROLE=REQ-PARTICIPANT:JÁDER FERREIRA LEITE	jaderfleite@g
 mail.com	UFRN	Externo(a) à Instituição
CREATED:20250422T183559Z
DESCRIPTION:Defesa de Dissertação do(a) Discente: SAYONARA NEVES BARBOSA
  GOMES\; Título: Relação entre afeto e política na organização socia
 l do Movimento das(os) Trabalhadoras(es) Rurais Sem Terra em um Acampament
 o do Estado de Alagoas.
LAST-MODIFIED:20250702T221513Z
LOCATION:Webconferência
URL:https://ip.ufal.br/pt-br/pos-graduacao/pospsico/institucional/calendar
 io-de-defesas/2024/banca-de-defesa-de-dissertacao-13
END:VEVENT
BEGIN:VTIMEZONE
TZID:America/Maceio
X-LIC-LOCATION:America/Maceio
BEGIN:STANDARD
DTSTART:20020216T230000
TZNAME:-03
TZOFFSETFROM:-0200
TZOFFSETTO:-0300
END:STANDARD
END:VTIMEZONE
END:VCALENDAR
