BEGIN:VCALENDAR
VERSION:2.0
PRODID:-//Plone.org//NONSGML plone.app.event//EN
X-WR-TIMEZONE:America/Maceio
BEGIN:VEVENT
SUMMARY:Banca de Defesa de Dissertação
DTSTART;TZID=America/Maceio:20240710T093000
DTEND;TZID=America/Maceio:20240710T123000
DTSTAMP:20260420T182400Z
UID:8b764dc86c0f4c2e85ffce38d7ccea6b@ip.ufal.br
ATTENDEE;CN="LAZARO BATISTA DA FONSECA (ORIENTADOR)	lazaro.batista@palmeir
 a.ufal.br	UFAL	Presidente";ROLE=REQ-PARTICIPANT:LAZARO BATISTA DA FONSECA 
 (ORIENTADOR)	lazaro.batista@palmeira.ufal.br	UFAL	Presidente
ATTENDEE;CN="ANTONIO CESAR DE HOLANDA SANTOS	antonio.santos@palmeira.ufal.
 br	UFAL	Interno(a)";ROLE=REQ-PARTICIPANT:ANTONIO CESAR DE HOLANDA SANTOS	a
 ntonio.santos@palmeira.ufal.br	UFAL	Interno(a)
ATTENDEE;CN="RAFAEL SIQUEIRA DE GUIMARÃES	rafaorlando@ufsj.edu.br	UFSJ	Ex
 terno(a) à Instituição";ROLE=REQ-PARTICIPANT:RAFAEL SIQUEIRA DE GUIMAR
 ÃES	rafaorlando@ufsj.edu.br	UFSJ	Externo(a) à Instituição
CREATED:20250422T183302Z
DESCRIPTION:Defesa de Dissertação do(a) Discente:  JULIA MINOSSI MUNHOZ\
 ; Título: Encontros na feira: possibilidades para o cuidado político.
LAST-MODIFIED:20250702T221513Z
LOCATION:Webconferência
URL:https://ip.ufal.br/pt-br/pos-graduacao/pospsico/institucional/calendar
 io-de-defesas/2024/banca-de-defesa-de-dissertacao-12
END:VEVENT
BEGIN:VTIMEZONE
TZID:America/Maceio
X-LIC-LOCATION:America/Maceio
BEGIN:STANDARD
DTSTART:20020216T230000
TZNAME:-03
TZOFFSETFROM:-0200
TZOFFSETTO:-0300
END:STANDARD
END:VTIMEZONE
END:VCALENDAR
