BEGIN:VCALENDAR
VERSION:2.0
PRODID:-//Plone.org//NONSGML plone.app.event//EN
X-WR-TIMEZONE:America/Maceio
BEGIN:VEVENT
SUMMARY:Banca de Defesa de Dissertação
DTSTART;TZID=America/Maceio:20240627T133000
DTEND;TZID=America/Maceio:20240627T163000
DTSTAMP:20260420T163816Z
UID:8a15ea4bc1344055baf081c3bffd319b@ip.ufal.br
ATTENDEE;CN="CLEYTON SIDNEY DE ANDRADE (ORIENTADOR)	cleyton.andrade@ip.ufa
 l.br	UFAL	Presidente";ROLE=REQ-PARTICIPANT:CLEYTON SIDNEY DE ANDRADE (ORIE
 NTADOR)	cleyton.andrade@ip.ufal.br	UFAL	Presidente
ATTENDEE;CN="CHARLES ELIAS LANG	charles.lang@ip.ufal.br	UFAL	Interno(a)";R
 OLE=REQ-PARTICIPANT:CHARLES ELIAS LANG	charles.lang@ip.ufal.br	UFAL	Intern
 o(a)
ATTENDEE;CN="ANTÔNIO MÁRCIO RIBEIRO TEIXEIRA	amrteixeira@uol.com.br	UFMG
 	Externo(a) à Instituição";ROLE=REQ-PARTICIPANT:ANTÔNIO MÁRCIO RIBEIR
 O TEIXEIRA	amrteixeira@uol.com.br	UFMG	Externo(a) à Instituição
ATTENDEE;CN="GUILHERME MASSARA ROCHA	massaragr@gmail.com	UFMG	Externo(a) 
 à Instituição";ROLE=REQ-PARTICIPANT:GUILHERME MASSARA ROCHA	massaragr@g
 mail.com	UFMG	Externo(a) à Instituição
ATTENDEE;CN=;ROLE=REQ-PARTICIPANT:
CREATED:20250422T183027Z
DESCRIPTION:Defesa de Dissertação do(a) Discente:  ISADORA VEIGA DE ASSU
 NCAO\; Título: “Cantar como quem fala”: a invenção singular de Joã
 o Gilberto
LAST-MODIFIED:20250702T221513Z
LOCATION:Webconferência
URL:https://ip.ufal.br/pt-br/pos-graduacao/pospsico/institucional/calendar
 io-de-defesas/2024/banca-de-defesa-de-dissertacao-11
END:VEVENT
BEGIN:VTIMEZONE
TZID:America/Maceio
X-LIC-LOCATION:America/Maceio
BEGIN:STANDARD
DTSTART:20020216T230000
TZNAME:-03
TZOFFSETFROM:-0200
TZOFFSETTO:-0300
END:STANDARD
END:VTIMEZONE
END:VCALENDAR
