BEGIN:VCALENDAR
VERSION:2.0
PRODID:-//Plone.org//NONSGML plone.app.event//EN
X-WR-TIMEZONE:America/Maceio
BEGIN:VEVENT
SUMMARY:Banca de Defesa de Dissertação
DTSTART;TZID=America/Maceio:20240625T090000
DTEND;TZID=America/Maceio:20240625T120000
DTSTAMP:20260420T174846Z
UID:2d8b9d2d50b24b74b84402dc91cb664e@ip.ufal.br
ATTENDEE;CN="NADJA MARIA VIEIRA DA SILVA (ORIENTADOR)	nadja.silva@ip.ufal.
 br	UFAL	Presidente";ROLE=REQ-PARTICIPANT:NADJA MARIA VIEIRA DA SILVA (ORIE
 NTADOR)	nadja.silva@ip.ufal.br	UFAL	Presidente
ATTENDEE;CN="JEFFERSON DE SOUZA BERNARDES	jefferson.bernardes@ip.ufal.br	U
 FAL	Interno(a)";ROLE=REQ-PARTICIPANT:JEFFERSON DE SOUZA BERNARDES	jefferso
 n.bernardes@ip.ufal.br	UFAL	Interno(a)
ATTENDEE;CN="JAIR BARBOSA DA SILVA                           jair.silva@fa
 le.ufal.br	UFAL	Externo(a) ao Programa";ROLE=REQ-PARTICIPANT:JAIR BARBOSA 
 DA SILVA                           jair.silva@fale.ufal.br	UFAL	Externo(a)
  ao Programa
CREATED:20250422T182700Z
DESCRIPTION:Defesa de Dissertação do(a) Discente: DANIELLY CALDAS DE OLI
 VEIRA\; Título: NARRATIVAS AUTOBIOGRÁFICAS DE MÃES OUVINTES NÃO FLUENT
 ES EM LIBRAS: considerações sobre a relação entre comunicação e dese
 nvolvimento de Surdos.
LAST-MODIFIED:20250702T221513Z
LOCATION:Webconferência
URL:https://ip.ufal.br/pt-br/pos-graduacao/pospsico/institucional/calendar
 io-de-defesas/2024/banca-de-defesa-de-dissertacao-10
END:VEVENT
BEGIN:VTIMEZONE
TZID:America/Maceio
X-LIC-LOCATION:America/Maceio
BEGIN:STANDARD
DTSTART:20020216T230000
TZNAME:-03
TZOFFSETFROM:-0200
TZOFFSETTO:-0300
END:STANDARD
END:VTIMEZONE
END:VCALENDAR
