BEGIN:VCALENDAR
VERSION:2.0
PRODID:-//Plone.org//NONSGML plone.app.event//EN
X-WR-TIMEZONE:America/Maceio
BEGIN:VEVENT
SUMMARY:Banca de Defesa de Dissertação
DTSTART;TZID=America/Maceio:20240131T140000
DTEND;TZID=America/Maceio:20240131T160000
DTSTAMP:20260420T174849Z
UID:78422a0d5f3e402783cbf4b293fa30e1@ip.ufal.br
ATTENDEE;CN="MARCOS RIBEIRO MESQUITA (ORIENTADOR)	marcos.mesquita@propep.u
 fal.br	UFAL	Presidente";ROLE=REQ-PARTICIPANT:MARCOS RIBEIRO MESQUITA (ORIE
 NTADOR)	marcos.mesquita@propep.ufal.br	UFAL	Presidente
ATTENDEE;CN="SIMONE MARIA HUNING	simone.huning@ip.ufal.br	UFAL	Interno(a)"
 ;ROLE=REQ-PARTICIPANT:SIMONE MARIA HUNING	simone.huning@ip.ufal.br	UFAL	In
 terno(a)
ATTENDEE;CN="JULIA MARIANA BARBOZA GAMBETTA	juliabgambetta@gmail.com		Exte
 rno(a) à Instituição";ROLE=REQ-PARTICIPANT:JULIA MARIANA BARBOZA GAMBET
 TA	juliabgambetta@gmail.com		Externo(a) à Instituição
ATTENDEE;CN="ERIKA CECILIA SOARES OLIVEIRA	erika.oliveira@ip.ufal.br	UFF	E
 xterno(a) à Instituição";ROLE=REQ-PARTICIPANT:ERIKA CECILIA SOARES OLIV
 EIRA	erika.oliveira@ip.ufal.br	UFF	Externo(a) à Instituição
ATTENDEE;CN="MARILIA SILVEIRA (COORIENTADOR)	mariliasilveira.rs@gmail.com	
 UERJ	Externo(a) à Instituição";ROLE=REQ-PARTICIPANT:MARILIA SILVEIRA (C
 OORIENTADOR)	mariliasilveira.rs@gmail.com	UERJ	Externo(a) à Instituição
CREATED:20250321T232818Z
DESCRIPTION:Defesa de Dissertação do(a) Discente: ARIANE NASCIMENTO DE M
 ORAIS\; Título: ROMPENDO O VELCRO A NAVALHADAS: SOBRE CORTES E REMENDOS L
 ÉSBICOS.
LAST-MODIFIED:20250702T221513Z
LOCATION:INSTITUTO DE PSICOLOGIA
URL:https://ip.ufal.br/pt-br/pos-graduacao/pospsico/institucional/calendar
 io-de-defesas/2024/banca-de-defesa-de-dissertacao-1
END:VEVENT
BEGIN:VTIMEZONE
TZID:America/Maceio
X-LIC-LOCATION:America/Maceio
BEGIN:STANDARD
DTSTART:20020216T230000
TZNAME:-03
TZOFFSETFROM:-0200
TZOFFSETTO:-0300
END:STANDARD
END:VTIMEZONE
END:VCALENDAR
