BEGIN:VCALENDAR
VERSION:2.0
PRODID:-//Plone.org//NONSGML plone.app.event//EN
X-WR-TIMEZONE:America/Maceio
BEGIN:VEVENT
SUMMARY:Banca de Defesa de Dissertação
DTSTART;TZID=America/Maceio:20230209T080000
DTEND;TZID=America/Maceio:20230209T090000
DTSTAMP:20260420T233439Z
UID:84f7be1326d34df3aff2276b92375126@ip.ufal.br
ATTENDEE;CN="CLEYTON SIDNEY DE ANDRADE, UFAL, Orientador/Presidente; ANDR
 ÉA MÁRIS CAMPOS GUERRA, UFMG, Externa à Instituição; TANIA COELHO DOS
  SANTOS, UFRJ, Externa à Instituição; FREDERICO ALVES COSTA, UFAL, Exam
 inador Interno.";ROLE=REQ-PARTICIPANT:CLEYTON SIDNEY DE ANDRADE, UFAL, Ori
 entador/Presidente; ANDRÉA MÁRIS CAMPOS GUERRA, UFMG, Externa à Institu
 ição; TANIA COELHO DOS SANTOS, UFRJ, Externa à Instituição; FREDERICO
  ALVES COSTA, UFAL, Examinador Interno.
CREATED:20240827T102923Z
DESCRIPTION:Banca de Defesa de Dissertação da discente Aline Karolinne M
 elo Oliveira\, com o título: Ditadura Civil-Militar brasileira: rastros\,
  restos e testemunho\; e título em inglês: Civil-military dictatorship: 
 traces\, remains and testimony.
LAST-MODIFIED:20250702T221513Z
LOCATION:Webconferência
URL:https://ip.ufal.br/pt-br/pos-graduacao/pospsico/institucional/calendar
 io-de-defesas/2023/banca-de-defesa-de-dissertacao
END:VEVENT
BEGIN:VTIMEZONE
TZID:America/Maceio
X-LIC-LOCATION:America/Maceio
BEGIN:STANDARD
DTSTART:20020216T230000
TZNAME:-03
TZOFFSETFROM:-0200
TZOFFSETTO:-0300
END:STANDARD
END:VTIMEZONE
END:VCALENDAR
