BEGIN:VCALENDAR
VERSION:2.0
PRODID:-//Plone.org//NONSGML plone.app.event//EN
X-WR-TIMEZONE:America/Maceio
BEGIN:VEVENT
SUMMARY:Banca de Defesa de Dissertação
DTSTART;TZID=America/Maceio:20230314T160000
DTEND;TZID=America/Maceio:20230314T170000
DTSTAMP:20260420T172442Z
UID:2b34f8dd5ad14029ba8d2c8b7447ae08@ip.ufal.br
ATTENDEE;CN="LEOGILDO ALVES FREIRES - ORIENTADOR/PRESIDENTE;";ROLE=REQ-PAR
 TICIPANT:LEOGILDO ALVES FREIRES - ORIENTADOR/PRESIDENTE;
ATTENDEE;CN="SHEYLA CHRISTINE SANTOS FERNANDES, PPGP, EXAMINADORA INTERNA;
 ";ROLE=REQ-PARTICIPANT:SHEYLA CHRISTINE SANTOS FERNANDES, PPGP, EXAMINADOR
 A INTERNA;
ATTENDEE;CN="GLEIDSON DIEGO LOPES LOURETO, UFRR, EXTERNO À INSTITUIÇÃO.
 ";ROLE=REQ-PARTICIPANT:GLEIDSON DIEGO LOPES LOURETO, UFRR, EXTERNO À INST
 ITUIÇÃO.
CREATED:20230301T123535Z
DESCRIPTION:Banca de Defesa de dissertação da discente Isabellí Geovanu
 tti Farias de Souza\, com título: Estresse de minoria em populações sex
 o gênero diversas: mensuração e análises multigrupais\; e título em i
 nglês: Minority stress in sex gender diverse populations: measurement and
  multigroup analysis.
LAST-MODIFIED:20250702T221512Z
LOCATION:Videoconferência
URL:https://ip.ufal.br/pt-br/pos-graduacao/pospsico/institucional/calendar
 io-de-defesas/2023/banca-de-defesa-de-dissertacao-6
END:VEVENT
BEGIN:VTIMEZONE
TZID:America/Maceio
X-LIC-LOCATION:America/Maceio
BEGIN:STANDARD
DTSTART:20020216T230000
TZNAME:-03
TZOFFSETFROM:-0200
TZOFFSETTO:-0300
END:STANDARD
END:VTIMEZONE
END:VCALENDAR
