BEGIN:VCALENDAR
VERSION:2.0
PRODID:-//Plone.org//NONSGML plone.app.event//EN
X-WR-TIMEZONE:America/Maceio
BEGIN:VEVENT
SUMMARY:Banca de Defesa de Dissertação
DTSTART;TZID=America/Maceio:20230314T140000
DTEND;TZID=America/Maceio:20230314T150000
DTSTAMP:20260420T222328Z
UID:55be38c6421e4a38867c54028687617d@ip.ufal.br
ATTENDEE;CN="LEOGILDO ALVES FREIRES - ORIENTADOR/PRESIDENTE;";ROLE=REQ-PAR
 TICIPANT:LEOGILDO ALVES FREIRES - ORIENTADOR/PRESIDENTE;
ATTENDEE;CN="SHEYLA CHRISTINE SANTOS FERNANDES, PPGP, EXAMINADORA INTERNA;
 ";ROLE=REQ-PARTICIPANT:SHEYLA CHRISTINE SANTOS FERNANDES, PPGP, EXAMINADOR
 A INTERNA;
ATTENDEE;CN="VALESCHKA MARTINS GUERRA, UFES, EXTERNA À INSTITUIÇÃO.";RO
 LE=REQ-PARTICIPANT:VALESCHKA MARTINS GUERRA, UFES, EXTERNA À INSTITUIÇÃ
 O.
CREATED:20230301T123252Z
DESCRIPTION:Banca de Defesa de dissertação da discente Edsangela Maria P
 orto Palmeira Silva\, com o título: “Temos tanto para contar...” repr
 esentações sociais de mães no contexto LGBTQIAPN+\; e título em Inglê
 s: "We have so much to tell..." social representations of mothers in the L
 GBTQIAPN+ context.
LAST-MODIFIED:20250702T221512Z
LOCATION:Videoconferência
URL:https://ip.ufal.br/pt-br/pos-graduacao/pospsico/institucional/calendar
 io-de-defesas/2023/banca-de-defesa-de-dissertacao-5
END:VEVENT
BEGIN:VTIMEZONE
TZID:America/Maceio
X-LIC-LOCATION:America/Maceio
BEGIN:STANDARD
DTSTART:20020216T230000
TZNAME:-03
TZOFFSETFROM:-0200
TZOFFSETTO:-0300
END:STANDARD
END:VTIMEZONE
END:VCALENDAR
