BEGIN:VCALENDAR
VERSION:2.0
PRODID:-//Plone.org//NONSGML plone.app.event//EN
X-WR-TIMEZONE:America/Maceio
BEGIN:VEVENT
SUMMARY:Banca de Defesa de Dissertação
DTSTART;TZID=America/Maceio:20230303T143000
DTEND;TZID=America/Maceio:20230303T153000
DTSTAMP:20260420T222329Z
UID:9f4be9f30ac54e30b958cab6d8801dd6@ip.ufal.br
ATTENDEE;CN="ANGELINA NUNES DE VASCONCELOS, UFAL, Orientadora/Presidente; 
 ABDIZIA MARIA ALVES BARROS, CEDU/UFAL, Externa ao Programa; NADJA MARIA VI
 EIRA DA SILVA, UFAL, Examinadora Interna.";ROLE=REQ-PARTICIPANT:ANGELINA N
 UNES DE VASCONCELOS, UFAL, Orientadora/Presidente; ABDIZIA MARIA ALVES BAR
 ROS, CEDU/UFAL, Externa ao Programa; NADJA MARIA VIEIRA DA SILVA, UFAL, Ex
 aminadora Interna.
CREATED:20240827T110304Z
DESCRIPTION:Banca de Defesa de Dissertação do discente Romário Barbosa 
 Santos\, com o título: Narrativas de inclusão na escola e no trabalho: e
 scutando os protagonistas\; e título em inglês: Narratives of inclusion 
 at school and at work: listening to the protagonists.
LAST-MODIFIED:20250702T221513Z
LOCATION:Webconferência
URL:https://ip.ufal.br/pt-br/pos-graduacao/pospsico/institucional/calendar
 io-de-defesas/2023/banca-de-defesa-de-dissertacao-4
END:VEVENT
BEGIN:VTIMEZONE
TZID:America/Maceio
X-LIC-LOCATION:America/Maceio
BEGIN:STANDARD
DTSTART:20020216T230000
TZNAME:-03
TZOFFSETFROM:-0200
TZOFFSETTO:-0300
END:STANDARD
END:VTIMEZONE
END:VCALENDAR
