BEGIN:VCALENDAR
VERSION:2.0
PRODID:-//Plone.org//NONSGML plone.app.event//EN
X-WR-TIMEZONE:America/Maceio
BEGIN:VEVENT
SUMMARY:Banca de Defesa de Dissertação
DTSTART;TZID=America/Maceio:20230830T150000
DTEND;TZID=America/Maceio:20230830T160000
DTSTAMP:20260420T174845Z
UID:ea40eafe22d44ae9893d66b07837ce30@ip.ufal.br
ATTENDEE;CN="MARIA AUXILIADORA TEIXEIRA RIBEIRO, PPGP/UFAL, ORIENTADORA/PR
 ESIDENTE;";ROLE=REQ-PARTICIPANT:MARIA AUXILIADORA TEIXEIRA RIBEIRO, PPGP/U
 FAL, ORIENTADORA/PRESIDENTE;
ATTENDEE;CN="MUNIQUE THERENSE COSTA DE MORAIS PONTES, PPGSC/UEA;";ROLE=REQ
 -PARTICIPANT:MUNIQUE THERENSE COSTA DE MORAIS PONTES, PPGSC/UEA;
ATTENDEE;CN="JEFFERSON DE SOUZA BERNARDES, PPGP, EXAMINADOR INTERNO.";ROLE
 =REQ-PARTICIPANT:JEFFERSON DE SOUZA BERNARDES, PPGP, EXAMINADOR INTERNO.
CREATED:20230731T125758Z
DESCRIPTION:Banca de Defesa de Dissertação da discente Simone Freire Cas
 tello Branco Soares\, com o título: UM RESPIRO NO CAOS: UMA ASSISTÊNCIA 
 PSICOLÓGICA NA CRISE DO OXIGÊNIO EM MANAUS\; e título em Inglês: A BRE
 ATH IN CHAOS: PSYCHOLOGICAL ASSISTANCE IN THE OXYGEN CRISIS IN MANAUS.
LAST-MODIFIED:20250702T221513Z
LOCATION:Webconferência
URL:https://ip.ufal.br/pt-br/pos-graduacao/pospsico/institucional/calendar
 io-de-defesas/2023/banca-de-defesa-de-dissertacao-35
END:VEVENT
BEGIN:VTIMEZONE
TZID:America/Maceio
X-LIC-LOCATION:America/Maceio
BEGIN:STANDARD
DTSTART:20020216T230000
TZNAME:-03
TZOFFSETFROM:-0200
TZOFFSETTO:-0300
END:STANDARD
END:VTIMEZONE
END:VCALENDAR
