BEGIN:VCALENDAR
VERSION:2.0
PRODID:-//Plone.org//NONSGML plone.app.event//EN
X-WR-TIMEZONE:America/Maceio
BEGIN:VEVENT
SUMMARY:Banca de Defesa de Dissertação
DTSTART;TZID=America/Maceio:20230801T160000
DTEND;TZID=America/Maceio:20230801T170000
DTSTAMP:20260420T143702Z
UID:73e365ec09e641189a2adcd93783f180@ip.ufal.br
ATTENDEE;CN="JEFFERSON DE SOUZA BERNARDES, PPGP - ORIENTADOR/PRESIDENTE;";
 ROLE=REQ-PARTICIPANT:JEFFERSON DE SOUZA BERNARDES, PPGP - ORIENTADOR/PRESI
 DENTE;
ATTENDEE;CN="TELMA LOW SILVA JUNQUEIRA, IP/UFAL, COORIENTADORA;";ROLE=REQ-
 PARTICIPANT:TELMA LOW SILVA JUNQUEIRA, IP/UFAL, COORIENTADORA;
ATTENDEE;CN="ANNA PAULA UZIEL, PPGPS/UERJ, EXTERNA À INSTITUIÇÃO;";ROLE
 =REQ-PARTICIPANT:ANNA PAULA UZIEL, PPGPS/UERJ, EXTERNA À INSTITUIÇÃO;
ATTENDEE;CN="MARIA AUXILIADORA TEIXEIRA RIBEIRO, PPGP, EXAMINADORA INTERNA
 .";ROLE=REQ-PARTICIPANT:MARIA AUXILIADORA TEIXEIRA RIBEIRO, PPGP, EXAMINAD
 ORA INTERNA.
CREATED:20230731T123536Z
DESCRIPTION:Banca de Defesa de Dissertação da discente Carolina dos Sant
 os Bianchini\, com o título: TECENDO SENTIDOS SOBRE MATERNIDADES\, ESPAÇ
 OS DOMÉSTICOS E PANDEMIA\; e título em Inglês: WEAVING MEANINGS ABOUT M
 OTHERHOOD\, DOMESTIC SPACES AND THE PANDEMIC.
LAST-MODIFIED:20250702T221513Z
LOCATION:Webconferência
URL:https://ip.ufal.br/pt-br/pos-graduacao/pospsico/institucional/calendar
 io-de-defesas/2023/banca-de-defesa-de-dissertacao-33
END:VEVENT
BEGIN:VTIMEZONE
TZID:America/Maceio
X-LIC-LOCATION:America/Maceio
BEGIN:STANDARD
DTSTART:20020216T230000
TZNAME:-03
TZOFFSETFROM:-0200
TZOFFSETTO:-0300
END:STANDARD
END:VTIMEZONE
END:VCALENDAR
