BEGIN:VCALENDAR
VERSION:2.0
PRODID:-//Plone.org//NONSGML plone.app.event//EN
X-WR-TIMEZONE:America/Maceio
BEGIN:VEVENT
SUMMARY:Banca de Defesa de Dissertação
DTSTART;TZID=America/Maceio:20230726T140000
DTEND;TZID=America/Maceio:20230726T150000
DTSTAMP:20260420T203137Z
UID:03a17c6a7ca941ca9a203592d580760c@ip.ufal.br
ATTENDEE;CN="SAULO LUDERS FERNANDES, PPGP - ORIENTADOR/PRESIDENTE;";ROLE=R
 EQ-PARTICIPANT:SAULO LUDERS FERNANDES, PPGP - ORIENTADOR/PRESIDENTE;
ATTENDEE;CN="CARLOS JOSÉ FERREIRA DOS SANTOS, PPGER/UFSB, EXTERNO À INST
 ITUIÇÃO;";ROLE=REQ-PARTICIPANT:CARLOS JOSÉ FERREIRA DOS SANTOS, PPGER/U
 FSB, EXTERNO À INSTITUIÇÃO;
ATTENDEE;CN="MARIA AUXILIADORA TEIXEIRA RIBEIRO, PPGP, EXAMINADORA INTERNA
 .";ROLE=REQ-PARTICIPANT:MARIA AUXILIADORA TEIXEIRA RIBEIRO, PPGP, EXAMINAD
 ORA INTERNA.
CREATED:20230731T123046Z
DESCRIPTION:Banca de Defesa de Dissertação da discente Maria Marques Mar
 inho Perônico Pedrosa\, com o título: RESISTINDO ÀS POLÍTICAS DE MORTE
  E PROMOVENDO POLÍTICAS DE VIDA: A EXPERIÊNCIA XUCURU-KARIRI DA MATA DA 
 CAFURNA NA PANDEMIA DE COVID-19\; e título em Inglês: RESISTING TO DEATH
  POLICIES AND PROMOTING LIFE POLICIES: THE XUCURU-KARIRI OF MATA DA CAFURN
 A EXPERIENCE IN THE COVID-19 PANDEMIC.
LAST-MODIFIED:20250702T221513Z
LOCATION:Webconferência
URL:https://ip.ufal.br/pt-br/pos-graduacao/pospsico/institucional/calendar
 io-de-defesas/2023/banca-de-defesa-de-dissertacao-32
END:VEVENT
BEGIN:VTIMEZONE
TZID:America/Maceio
X-LIC-LOCATION:America/Maceio
BEGIN:STANDARD
DTSTART:20020216T230000
TZNAME:-03
TZOFFSETFROM:-0200
TZOFFSETTO:-0300
END:STANDARD
END:VTIMEZONE
END:VCALENDAR
