BEGIN:VCALENDAR
VERSION:2.0
PRODID:-//Plone.org//NONSGML plone.app.event//EN
X-WR-TIMEZONE:America/Maceio
BEGIN:VEVENT
SUMMARY:Banca de Defesa de Dissertação
DTSTART;TZID=America/Maceio:20230726T073000
DTEND;TZID=America/Maceio:20230726T083000
DTSTAMP:20260420T174846Z
UID:84251be20f4d437594bbeefdb8e69885@ip.ufal.br
ATTENDEE;CN="SAULO LUDERS FERNANDES, PPGP - ORIENTADOR/PRESIDENTE;";ROLE=R
 EQ-PARTICIPANT:SAULO LUDERS FERNANDES, PPGP - ORIENTADOR/PRESIDENTE;
ATTENDEE;CN="JOAO PAULO SALES MACEDO, PPGP/UFDPAR, EXTERNO À INSTITUIÇÃ
 O;";ROLE=REQ-PARTICIPANT:JOAO PAULO SALES MACEDO, PPGP/UFDPAR, EXTERNO À 
 INSTITUIÇÃO;
ATTENDEE;CN="ANTONIO CESAR DE HOLANDA SANTOS, PPGP, EXAMINADOR INTERNO.";R
 OLE=REQ-PARTICIPANT:ANTONIO CESAR DE HOLANDA SANTOS, PPGP, EXAMINADOR INTE
 RNO.
CREATED:20230731T122656Z
DESCRIPTION:Banca de Defesa de Dissertação da discente Juliana Camargo d
 e Faria Pirró\, com o título: PSICOLOGIA EM MOVIMENTO: ENCONTRO DE SABER
 ES E FAZERES ENTRE PSICOLOGIA E MST PARA O CUIDADO INTEGRAL EM SAÚDE MENT
 AL DO CAMPO\; e título em Inglês: PSYCHOLOGY IN MOVEMENT: ENCOUNTER BETW
 EEN PSYCHOLOGY AND THE LANDLESS PEASANTS MOVEMENT (MST) FOR INTEGRAL MENTA
 L HEALTH CARE IN THE RURAL AREA.
LAST-MODIFIED:20250702T221513Z
LOCATION:Webconferência
URL:https://ip.ufal.br/pt-br/pos-graduacao/pospsico/institucional/calendar
 io-de-defesas/2023/banca-de-defesa-de-dissertacao-31
END:VEVENT
BEGIN:VTIMEZONE
TZID:America/Maceio
X-LIC-LOCATION:America/Maceio
BEGIN:STANDARD
DTSTART:20020216T230000
TZNAME:-03
TZOFFSETFROM:-0200
TZOFFSETTO:-0300
END:STANDARD
END:VTIMEZONE
END:VCALENDAR
