BEGIN:VCALENDAR
VERSION:2.0
PRODID:-//Plone.org//NONSGML plone.app.event//EN
X-WR-TIMEZONE:America/Maceio
BEGIN:VEVENT
SUMMARY:Banca de Defesa de Dissertação
DTSTART;TZID=America/Maceio:20230721T023000
DTEND;TZID=America/Maceio:20230721T033000
DTSTAMP:20260420T174849Z
UID:7daae33f42544c94aced34813b227454@ip.ufal.br
ATTENDEE;CN="SIMONE MARIA HÜNING, PPGP - ORIENTADORA/PRESIDENTE;";ROLE=RE
 Q-PARTICIPANT:SIMONE MARIA HÜNING, PPGP - ORIENTADORA/PRESIDENTE;
ATTENDEE;CN="JAILEILA DE ARAUJO MENEZES , PPGP/UFPE, EXTERNA À INSTITUIÇ
 ÃO;";ROLE=REQ-PARTICIPANT:JAILEILA DE ARAUJO MENEZES , PPGP/UFPE, EXTERNA
  À INSTITUIÇÃO;
ATTENDEE;CN="LISANDRA ESPINDULA MOREIRA, PPGP/UFMG, EXTERNA À INSTITUIÇ
 ÃO;";ROLE=REQ-PARTICIPANT:LISANDRA ESPINDULA MOREIRA, PPGP/UFMG, EXTERNA 
 À INSTITUIÇÃO;
ATTENDEE;CN="MARCOS RIBEIRO MESQUITA, PPGP, EXAMINADOR INTERNO.";ROLE=REQ-
 PARTICIPANT:MARCOS RIBEIRO MESQUITA, PPGP, EXAMINADOR INTERNO.
CREATED:20230731T122411Z
DESCRIPTION:Banca de Defesa de Dissertação da discente Elis Jayane dos S
 antos Silva\, com o título: PERCORRENDO MARGENS CATANDO RASTROS: ESCREVIV
 ÊNCIAS PRODUZIDAS NO ENCONTRO ENTRE MULHERES\, AS RUAS E O COTIDIANO\; e 
 título em Inglês: WALKING ALONG THE SHORES PICKING UP TRACES: WRITINGS P
 RODUCED IN THE ENCOUNTER BETWEEN WOMEN\, THE STREETS AND EVERYDAY LIFE.
LAST-MODIFIED:20250702T221513Z
LOCATION:Webconferência
URL:https://ip.ufal.br/pt-br/pos-graduacao/pospsico/institucional/calendar
 io-de-defesas/2023/banca-de-defesa-de-dissertacao-30
END:VEVENT
BEGIN:VTIMEZONE
TZID:America/Maceio
X-LIC-LOCATION:America/Maceio
BEGIN:STANDARD
DTSTART:20020216T230000
TZNAME:-03
TZOFFSETFROM:-0200
TZOFFSETTO:-0300
END:STANDARD
END:VTIMEZONE
END:VCALENDAR
