BEGIN:VCALENDAR
VERSION:2.0
PRODID:-//Plone.org//NONSGML plone.app.event//EN
X-WR-TIMEZONE:America/Maceio
BEGIN:VEVENT
SUMMARY:Banca de Defesa de Dissertação
DTSTART;TZID=America/Maceio:20230302T140000
DTEND;TZID=America/Maceio:20230302T150000
DTSTAMP:20260420T203137Z
UID:364ff2e81ce94d95876d9b1bdfac58d1@ip.ufal.br
ATTENDEE;CN="JEFFERSON DE SOUZA BERNARDES, UFAL, Orientador/Presidente; TE
 LMA LOW SILVA JUNQUEIRA, IP/UFAL, Externa ao Programa; GUILMER BRITO SILVA
 , CIED/UFAL, Externo ao Programa; MARIA AUXILIADORA TEIXEIRA RIBEIRO, UFAL
 , Examinadora Interna.";ROLE=REQ-PARTICIPANT:JEFFERSON DE SOUZA BERNARDES,
  UFAL, Orientador/Presidente; TELMA LOW SILVA JUNQUEIRA, IP/UFAL, Externa 
 ao Programa; GUILMER BRITO SILVA, CIED/UFAL, Externo ao Programa; MARIA AU
 XILIADORA TEIXEIRA RIBEIRO, UFAL, Examinadora Interna.
CREATED:20240827T105905Z
DESCRIPTION:Banca de Defesa de Dissertação da discente Sarah Lins de Bar
 ros Moreira\, com o título Histórias contadas a partir do uso de Tecnolo
 gias da Informação e Comunicação em uma Unidade Covid-19\; e título e
 m Inglês: Stories telled from the use of Information and Communication Te
 chnologies in a Covid-19 Unit.
LAST-MODIFIED:20250702T221513Z
LOCATION:Mini Auditório do HUPAA
URL:https://ip.ufal.br/pt-br/pos-graduacao/pospsico/institucional/calendar
 io-de-defesas/2023/banca-de-defesa-de-dissertacao-3
END:VEVENT
BEGIN:VTIMEZONE
TZID:America/Maceio
X-LIC-LOCATION:America/Maceio
BEGIN:STANDARD
DTSTART:20020216T230000
TZNAME:-03
TZOFFSETFROM:-0200
TZOFFSETTO:-0300
END:STANDARD
END:VTIMEZONE
END:VCALENDAR
