BEGIN:VCALENDAR
VERSION:2.0
PRODID:-//Plone.org//NONSGML plone.app.event//EN
X-WR-TIMEZONE:America/Maceio
BEGIN:VEVENT
SUMMARY:Banca de Defesa de Dissertação
DTSTART;TZID=America/Maceio:20230727T080000
DTEND;TZID=America/Maceio:20230727T090000
DTSTAMP:20260420T174849Z
UID:d51816eab4d94ecdbc62a9ae09fec65a@ip.ufal.br
ATTENDEE;CN="MARIA AUXILIADORA TEIXEIRA RIBEIRO, PPGP - ORIENTADORA/PRESID
 ENTE;";ROLE=REQ-PARTICIPANT:MARIA AUXILIADORA TEIXEIRA RIBEIRO, PPGP - ORI
 ENTADORA/PRESIDENTE;
ATTENDEE;CN="MARILIA SILVEIRA, PPGPS/UERJ - EXTERNA À INSTITUIÇÃO;";ROL
 E=REQ-PARTICIPANT:MARILIA SILVEIRA, PPGPS/UERJ - EXTERNA À INSTITUIÇÃO;
ATTENDEE;CN="SUSANE VASCONCELOS ZANOTTI, PPGP, EXAMINADORA INTERNA.";ROLE=
 REQ-PARTICIPANT:SUSANE VASCONCELOS ZANOTTI, PPGP, EXAMINADORA INTERNA.
CREATED:20230731T122027Z
DESCRIPTION:Banca de Defesa de Dissertação da discente Débora Brandão 
 de Lima Maia\, com o título: PODER (PARA) DIZER DE NÓS: LEITURAS FEMINIS
 TAS NA PASSAGEM DE UMA ÚNICA HISTÓRIA A UMA HISTÓRIA ÚNICA DE MULHERES
  MÃES\; e título em Inglês: POWER (TO) SAY ABOUT US: FEMINIST READINGS 
 IN THE PASSAGE FROM A SINGLE STORY TO A SINGLE STORY OF WOMEN MOTHERS.
LAST-MODIFIED:20250702T221513Z
LOCATION:Webconferência
URL:https://ip.ufal.br/pt-br/pos-graduacao/pospsico/institucional/calendar
 io-de-defesas/2023/banca-de-defesa-de-dissertacao-29
END:VEVENT
BEGIN:VTIMEZONE
TZID:America/Maceio
X-LIC-LOCATION:America/Maceio
BEGIN:STANDARD
DTSTART:20020216T230000
TZNAME:-03
TZOFFSETFROM:-0200
TZOFFSETTO:-0300
END:STANDARD
END:VTIMEZONE
END:VCALENDAR
