BEGIN:VCALENDAR
VERSION:2.0
PRODID:-//Plone.org//NONSGML plone.app.event//EN
X-WR-TIMEZONE:America/Maceio
BEGIN:VEVENT
SUMMARY:Banca de Defesa de Dissertação
DTSTART;TZID=America/Maceio:20230731T020000
DTEND;TZID=America/Maceio:20230731T030000
DTSTAMP:20260420T182400Z
UID:b5fa9dd9785b4518a05c878c484c2ff4@ip.ufal.br
ATTENDEE;CN="SIMONE MARIA HUNING, PPGP - ORIENTADORA/PRESIDENTE;";ROLE=REQ
 -PARTICIPANT:SIMONE MARIA HUNING, PPGP - ORIENTADORA/PRESIDENTE;
ATTENDEE;CN="ERIKA CECILIA SOARES OLIVEIRA, UFF, EXTERNA À INSTITUIÇÃO;
 ";ROLE=REQ-PARTICIPANT:ERIKA CECILIA SOARES OLIVEIRA, UFF, EXTERNA À INST
 ITUIÇÃO;
ATTENDEE;CN="MARILIA SILVEIRA, PPGPS/UERJ, EXTERNA À INSTITUIÇÃO;";ROLE
 =REQ-PARTICIPANT:MARILIA SILVEIRA, PPGPS/UERJ, EXTERNA À INSTITUIÇÃO;
ATTENDEE;CN="MARCOS RIBEIRO MESQUITA, PPGP, EXAMINADOR INTERNO.";ROLE=REQ-
 PARTICIPANT:MARCOS RIBEIRO MESQUITA, PPGP, EXAMINADOR INTERNO.
CREATED:20230731T121407Z
DESCRIPTION:Banca de Defesa de Dissertação da discente Thainara Brito Sa
 ntos\, com o título: ENTRE VIOLÊNCIAS E INSUBMISSÕES: MEMÓRIAS DE MULH
 ERES DE BOA VISTA-RR\; e título em Inglês: BETWEEN VIOLENCE AND INSUBMIS
 SION: MEMORIES OF WOMEN FROM BOA VISTA-RR.
LAST-MODIFIED:20250702T221513Z
LOCATION:FORMATO HÍBRIDO
URL:https://ip.ufal.br/pt-br/pos-graduacao/pospsico/institucional/calendar
 io-de-defesas/2023/banca-de-defesa-de-dissertacao-27
END:VEVENT
BEGIN:VTIMEZONE
TZID:America/Maceio
X-LIC-LOCATION:America/Maceio
BEGIN:STANDARD
DTSTART:20020216T230000
TZNAME:-03
TZOFFSETFROM:-0200
TZOFFSETTO:-0300
END:STANDARD
END:VTIMEZONE
END:VCALENDAR
