BEGIN:VCALENDAR
VERSION:2.0
PRODID:-//Plone.org//NONSGML plone.app.event//EN
X-WR-TIMEZONE:America/Maceio
BEGIN:VEVENT
SUMMARY:Banca de Defesa de Dissertação
DTSTART;TZID=America/Maceio:20230728T090000
DTEND;TZID=America/Maceio:20230728T100000
DTSTAMP:20260420T163817Z
UID:4382293b6e2b446eb4aacca48dc64463@ip.ufal.br
ATTENDEE;CN="PAULA ORCHIUCCI MIURA, PPGP - ORIENTADORA/PRESIDENTE;";ROLE=R
 EQ-PARTICIPANT:PAULA ORCHIUCCI MIURA, PPGP - ORIENTADORA/PRESIDENTE;
ATTENDEE;CN="LEILA SALOMÃO DE LA PLATA CURY TARDIVO, PPGP/USP, EXTERNA À
  INSTITUIÇÃO;";ROLE=REQ-PARTICIPANT:LEILA SALOMÃO DE LA PLATA CURY TARD
 IVO, PPGP/USP, EXTERNA À INSTITUIÇÃO;
ATTENDEE;CN="ANGELINA NUNES DE VASCONCELOS, PPGP, EXAMINADORA INTERNA";ROL
 E=REQ-PARTICIPANT:ANGELINA NUNES DE VASCONCELOS, PPGP, EXAMINADORA INTERNA
CREATED:20230731T120424Z
DESCRIPTION:Banca de Defesa de Dissertação da discente Daniele Vasques d
 e Amorim Morais\, com o título: A CONSTITUIÇÃO DA PARENTALIDADE NA ADO
 ÇÃO TARDIA \; e título em Inglês: THE CONSTITUTION OF PARENTALITY IN L
 ATE ADOPTION.
LAST-MODIFIED:20250702T221513Z
LOCATION:Webconferência
URL:https://ip.ufal.br/pt-br/pos-graduacao/pospsico/institucional/calendar
 io-de-defesas/2023/banca-de-defesa-de-dissertacao-25
END:VEVENT
BEGIN:VTIMEZONE
TZID:America/Maceio
X-LIC-LOCATION:America/Maceio
BEGIN:STANDARD
DTSTART:20020216T230000
TZNAME:-03
TZOFFSETFROM:-0200
TZOFFSETTO:-0300
END:STANDARD
END:VTIMEZONE
END:VCALENDAR
