BEGIN:VCALENDAR
VERSION:2.0
PRODID:-//Plone.org//NONSGML plone.app.event//EN
X-WR-TIMEZONE:America/Maceio
BEGIN:VEVENT
SUMMARY:Banca de Defesa de Dissertação
DTSTART;TZID=America/Maceio:20230216T140000
DTEND;TZID=America/Maceio:20230216T150000
DTSTAMP:20260420T233439Z
UID:efd8dd79d30b453b947f7d7b291f2c87@ip.ufal.br
ATTENDEE;CN="CLEYTON SIDNEY DE ANDRADE - ORIENTADOR/PRESIDENTE;";ROLE=REQ-
 PARTICIPANT:CLEYTON SIDNEY DE ANDRADE - ORIENTADOR/PRESIDENTE;
ATTENDEE;CN="FREDERICO ALVES COSTA, PPGP, EXAMINADOR INTERNO;";ROLE=REQ-PA
 RTICIPANT:FREDERICO ALVES COSTA, PPGP, EXAMINADOR INTERNO;
ATTENDEE;CN="CARLA RODRIGUES, UFRJ, EXTERNA À INSTITUIÇÃO;";ROLE=REQ-PA
 RTICIPANT:CARLA RODRIGUES, UFRJ, EXTERNA À INSTITUIÇÃO;
ATTENDEE;CN="GILSON DE PAULO MOREIRA IANNINI, UFMG, EXTERNO À INSTITUIÇ
 ÃO.";ROLE=REQ-PARTICIPANT:GILSON DE PAULO MOREIRA IANNINI, UFMG, EXTERNO 
 À INSTITUIÇÃO.
CREATED:20230301T122240Z
DESCRIPTION:Banca de Defesa de Dissertação do discente Samuel de Sousa N
 antes\, com o título: A reivindicação dos entregadores: da condição p
 eriférica ao sujeito político\; e título em Inglês: The claim of couri
 ers: from the peripheral condition to the political subject.
LAST-MODIFIED:20250702T221512Z
LOCATION:Videoconferência
URL:https://ip.ufal.br/pt-br/pos-graduacao/pospsico/institucional/calendar
 io-de-defesas/2023/banca-de-defesa-de-dissertacao-2
END:VEVENT
BEGIN:VTIMEZONE
TZID:America/Maceio
X-LIC-LOCATION:America/Maceio
BEGIN:STANDARD
DTSTART:20020216T230000
TZNAME:-03
TZOFFSETFROM:-0200
TZOFFSETTO:-0300
END:STANDARD
END:VTIMEZONE
END:VCALENDAR
