BEGIN:VCALENDAR
VERSION:2.0
PRODID:-//Plone.org//NONSGML plone.app.event//EN
X-WR-TIMEZONE:America/Maceio
BEGIN:VEVENT
SUMMARY:Banca de Defesa de Dissertação
DTSTART;TZID=America/Maceio:20230516T140000
DTEND;TZID=America/Maceio:20230516T150000
DTSTAMP:20260420T163818Z
UID:2c1eb55dd8d54de8a5cbae0aedddc640@ip.ufal.br
ATTENDEE;CN="SIMONE MARIA HUNING - PPGP - ORIENTADORA/PRESIDENTE;";ROLE=RE
 Q-PARTICIPANT:SIMONE MARIA HUNING - PPGP - ORIENTADORA/PRESIDENTE;
ATTENDEE;CN="DENISE MARIA BOTELHO - UFRPE - EXAMINADORA EXTERNA À INSTITU
 IÇÃO;";ROLE=REQ-PARTICIPANT:DENISE MARIA BOTELHO - UFRPE - EXAMINADORA E
 XTERNA À INSTITUIÇÃO;
ATTENDEE;CN="MARCOS RIBEIRO MESQUITA - PPGP - EXAMINADOR INTERNO.";ROLE=RE
 Q-PARTICIPANT:MARCOS RIBEIRO MESQUITA - PPGP - EXAMINADOR INTERNO.
CREATED:20230508T140441Z
DESCRIPTION:Banca de Defesa de Dissertação do discente Lucas Rodrigues F
 erreira\, com o título: O Sistema Conselhos de Psicologia e suas implica
 ções na produção\, manutenção e combate ao racismo religioso contra 
 religiões de matrizes africanas\; e título em inglês: The Psychology Bo
 ards System and its implications in the production\, maintenance and fight
  against religious racism against religions of african origin.
LAST-MODIFIED:20250702T221513Z
LOCATION:Webconferência
URL:https://ip.ufal.br/pt-br/pos-graduacao/pospsico/institucional/calendar
 io-de-defesas/2023/banca-de-defesa-de-dissertacao-17
END:VEVENT
BEGIN:VTIMEZONE
TZID:America/Maceio
X-LIC-LOCATION:America/Maceio
BEGIN:STANDARD
DTSTART:20020216T230000
TZNAME:-03
TZOFFSETFROM:-0200
TZOFFSETTO:-0300
END:STANDARD
END:VTIMEZONE
END:VCALENDAR
