BEGIN:VCALENDAR
VERSION:2.0
PRODID:-//Plone.org//NONSGML plone.app.event//EN
X-WR-TIMEZONE:America/Maceio
BEGIN:VEVENT
SUMMARY:Banca de Defesa de Dissertação
DTSTART;TZID=America/Maceio:20230509T093000
DTEND;TZID=America/Maceio:20230509T103000
DTSTAMP:20260420T174641Z
UID:affd4ab537a44798ace1987923ed2749@ip.ufal.br
ATTENDEE;CN="CHARLES ELIAS LANG – PPGP – ORIENTADOR/PRESIDENTE;";ROLE=
 REQ-PARTICIPANT:CHARLES ELIAS LANG – PPGP – ORIENTADOR/PRESIDENTE;
ATTENDEE;CN="MARTA REGINA DE LEÃO D’AGORD - UFRGS  - EXTERNA À INSTITU
 IÇÃO;";ROLE=REQ-PARTICIPANT:MARTA REGINA DE LEÃO D’AGORD - UFRGS  - E
 XTERNA À INSTITUIÇÃO;
ATTENDEE;CN="PAULA ORCHIUCCI MIURA – PPGP – EXAMINADORA INTERNA.";ROLE
 =REQ-PARTICIPANT:PAULA ORCHIUCCI MIURA – PPGP – EXAMINADORA INTERNA.
CREATED:20230425T130817Z
DESCRIPTION:Banca de Defesa de Dissertação do discente Yuri Fernandes de
  Andrade Lima\, com o título: O transhumanismo nas revistas científicas 
 brasileiras: do mapeamento aos debates\; e título em inglês: Three artic
 les on transhumanism: from Brazilian scientific journals to transhumanist 
 politics
LAST-MODIFIED:20250702T221513Z
LOCATION:Webconferência
URL:https://ip.ufal.br/pt-br/pos-graduacao/pospsico/institucional/calendar
 io-de-defesas/2023/banca-de-defesa-de-dissertacao-16
END:VEVENT
BEGIN:VTIMEZONE
TZID:America/Maceio
X-LIC-LOCATION:America/Maceio
BEGIN:STANDARD
DTSTART:20020216T230000
TZNAME:-03
TZOFFSETFROM:-0200
TZOFFSETTO:-0300
END:STANDARD
END:VTIMEZONE
END:VCALENDAR
