BEGIN:VCALENDAR
VERSION:2.0
PRODID:-//Plone.org//NONSGML plone.app.event//EN
X-WR-TIMEZONE:America/Maceio
BEGIN:VEVENT
SUMMARY:Banca de Defesa de Dissertação
DTSTART;TZID=America/Maceio:20230427T140000
DTEND;TZID=America/Maceio:20230427T150000
DTSTAMP:20260420T170304Z
UID:161bfbf4edfe4861901c41317ce82dec@ip.ufal.br
ATTENDEE;CN="MARÍLIA SILVEIRA – PPGP – ORIENTADORA/PRESIDENTE;";ROLE=
 REQ-PARTICIPANT:MARÍLIA SILVEIRA – PPGP – ORIENTADORA/PRESIDENTE;
ATTENDEE;CN="GIOVANA FAGUNDES LUCZINSKI - UFPel - EXTERNA À INSTITUIÇÃO
 ;";ROLE=REQ-PARTICIPANT:GIOVANA FAGUNDES LUCZINSKI - UFPel - EXTERNA À IN
 STITUIÇÃO;
ATTENDEE;CN="MARIA AUXILIADORA TEIXEIRA RIBEIRO - PPGP – EXAMINADORA INT
 ERNA.";ROLE=REQ-PARTICIPANT:MARIA AUXILIADORA TEIXEIRA RIBEIRO - PPGP – 
 EXAMINADORA INTERNA.
CREATED:20230425T130529Z
DESCRIPTION:Banca de Defesa de Dissertação da discente Karla Karolyne Vi
 ana Gomes\, com o título: Da sala de hemodiálise para a sala de aula: so
 bre o que transborda\; e título em inglês: From the hemodialysis room to
  the classroom: what overflows.
LAST-MODIFIED:20250702T221513Z
LOCATION:Webconferência
URL:https://ip.ufal.br/pt-br/pos-graduacao/pospsico/institucional/calendar
 io-de-defesas/2023/banca-de-defesa-de-dissertacao-15
END:VEVENT
BEGIN:VTIMEZONE
TZID:America/Maceio
X-LIC-LOCATION:America/Maceio
BEGIN:STANDARD
DTSTART:20020216T230000
TZNAME:-03
TZOFFSETFROM:-0200
TZOFFSETTO:-0300
END:STANDARD
END:VTIMEZONE
END:VCALENDAR
