BEGIN:VCALENDAR
VERSION:2.0
PRODID:-//Plone.org//NONSGML plone.app.event//EN
X-WR-TIMEZONE:America/Maceio
BEGIN:VEVENT
SUMMARY:Banca de Defesa de Dissertação
DTSTART;TZID=America/Maceio:20230505T143000
DTEND;TZID=America/Maceio:20230505T153000
DTSTAMP:20260420T174849Z
UID:7abe99b8bdf84eaa8569fcf9e7f571fb@ip.ufal.br
ATTENDEE;CN="CLEYTON SIDNEY DE ANDRADE - PPGP/UFAL - ORIENTADOR/PRESIDENTE
 ;";ROLE=REQ-PARTICIPANT:CLEYTON SIDNEY DE ANDRADE - PPGP/UFAL - ORIENTADOR
 /PRESIDENTE;
ATTENDEE;CN="ANA CLARA MAGALHÃES DE MEDEIROS - PPGLL/UFAL - EXAMINADORA E
 XTERNA AO PROGRAMA;";ROLE=REQ-PARTICIPANT:ANA CLARA MAGALHÃES DE MEDEIROS
  - PPGLL/UFAL - EXAMINADORA EXTERNA AO PROGRAMA;
ATTENDEE;CN="FLÁVIA LETÍCIA BIFF CERA - UFSC - EXAMINADORA EXTERNA À IN
 STITUIÇÃO;";ROLE=REQ-PARTICIPANT:FLÁVIA LETÍCIA BIFF CERA - UFSC - EXA
 MINADORA EXTERNA À INSTITUIÇÃO;
ATTENDEE;CN="SUSANE VASCONCELOS ZANOTTI - PPGP/UFAL - EXAMINADORA INTERNA.
 ";ROLE=REQ-PARTICIPANT:SUSANE VASCONCELOS ZANOTTI - PPGP/UFAL - EXAMINADOR
 A INTERNA.
CREATED:20230418T105305Z
DESCRIPTION:Banca de Defesa de dissertação do discente Thallison de Souz
 a Nobre\, com o título: AMORTE\, o impossível da Escrita Machadiana\; e 
 título em inglês: AMORTE\, the impossible of Machadian Writing.
LAST-MODIFIED:20250702T221512Z
LOCATION:Webconferência
URL:https://ip.ufal.br/pt-br/pos-graduacao/pospsico/institucional/calendar
 io-de-defesas/2023/banca-de-defesa-de-dissertacao-14
END:VEVENT
BEGIN:VTIMEZONE
TZID:America/Maceio
X-LIC-LOCATION:America/Maceio
BEGIN:STANDARD
DTSTART:20020216T230000
TZNAME:-03
TZOFFSETFROM:-0200
TZOFFSETTO:-0300
END:STANDARD
END:VTIMEZONE
END:VCALENDAR
