BEGIN:VCALENDAR
VERSION:2.0
PRODID:-//Plone.org//NONSGML plone.app.event//EN
X-WR-TIMEZONE:America/Maceio
BEGIN:VEVENT
SUMMARY:Banca de Defesa de Dissertação
DTSTART;TZID=America/Maceio:20230215T143000
DTEND;TZID=America/Maceio:20230215T153000
DTSTAMP:20260420T174849Z
UID:30d1cbeeb8754da5a39cf9088e9389e3@ip.ufal.br
ATTENDEE;CN="ANGELINA NUNES DE VASCONCELOS - ORIENTADORA/PRESIDENTE;";ROLE
 =REQ-PARTICIPANT:ANGELINA NUNES DE VASCONCELOS - ORIENTADORA/PRESIDENTE;
ATTENDEE;CN="NADJA MARIA VIEIRA DA SILVA, PPGP, EXAMINADORA INTERNA;";ROLE
 =REQ-PARTICIPANT:NADJA MARIA VIEIRA DA SILVA, PPGP, EXAMINADORA INTERNA;
ATTENDEE;CN="GABRIEL FORTES CAVALCANTI DE MACÊDO, UFPE, EXTERNO À INSTIT
 UIÇÃO.";ROLE=REQ-PARTICIPANT:GABRIEL FORTES CAVALCANTI DE MACÊDO, UFPE,
  EXTERNO À INSTITUIÇÃO.
CREATED:20230301T121926Z
DESCRIPTION:Banca de Defesa de Dissertação do discente Pedro Henrique Ma
 tias Marques Gomes\, com o título: O role-playing-game enquanto ferrament
 a facilitadora de estratégias argumentativas\; e título em inglês: The 
 role-playing-game as a facilitating tool for argumentative strategies.
LAST-MODIFIED:20250702T221512Z
LOCATION:Sala 33 do Instituto de Psicologia
URL:https://ip.ufal.br/pt-br/pos-graduacao/pospsico/institucional/calendar
 io-de-defesas/2023/banca-de-defesa-de-dissertacao-1
END:VEVENT
BEGIN:VTIMEZONE
TZID:America/Maceio
X-LIC-LOCATION:America/Maceio
BEGIN:STANDARD
DTSTART:20020216T230000
TZNAME:-03
TZOFFSETFROM:-0200
TZOFFSETTO:-0300
END:STANDARD
END:VTIMEZONE
END:VCALENDAR
