BEGIN:VCALENDAR
VERSION:2.0
PRODID:-//Plone.org//NONSGML plone.app.event//EN
X-WR-TIMEZONE:America/Maceio
BEGIN:VEVENT
SUMMARY:Banca de Defesa de Dissertação
DTSTART;TZID=America/Maceio:20220217T090000
DTEND;TZID=America/Maceio:20220217T100000
DTSTAMP:20260421T085629Z
UID:f15a9969cb99441992ca33a3a711a477@ip.ufal.br
ATTENDEE;CN="PROFA. DRA. MARIA AUXILIADORA TEIXEIRA RIBEIRO (ORIENTADORA/P
 RESIDENTE)";ROLE=REQ-PARTICIPANT:PROFA. DRA. MARIA AUXILIADORA TEIXEIRA RI
 BEIRO (ORIENTADORA/PRESIDENTE)
ATTENDEE;CN="PROFA. DRA. FLAVIA REGINA GUEDES RIBEIRO - UFAL - EXAMINADORA
  EXTERNA AO PROGRAMA";ROLE=REQ-PARTICIPANT:PROFA. DRA. FLAVIA REGINA GUEDE
 S RIBEIRO - UFAL - EXAMINADORA EXTERNA AO PROGRAMA
ATTENDEE;CN="PROFA. DRA. SIMONE MARIA HUNING - UFAL - EXAMINADORA INTERNA"
 ;ROLE=REQ-PARTICIPANT:PROFA. DRA. SIMONE MARIA HUNING - UFAL - EXAMINADORA
  INTERNA
CREATED:20220309T133323Z
DESCRIPTION:Banca de Defesa de Dissertação da discente Rafaelle Higino d
 e Lemos\, com o título: "“Gênero e Raça: os movimentos de enfrentamen
 to na história de vida de uma mulher negra alagoana”\; e título em ing
 lês: "Gender and Race: the confrontation movements in the life history of
  a black woman from Alagoas"
LAST-MODIFIED:20250702T221512Z
LOCATION:Webconferência pelo Google Meet
URL:https://ip.ufal.br/pt-br/pos-graduacao/pospsico/institucional/calendar
 io-de-defesas/2022/banca-de-defesa-de-dissertacao
END:VEVENT
BEGIN:VTIMEZONE
TZID:America/Maceio
X-LIC-LOCATION:America/Maceio
BEGIN:STANDARD
DTSTART:20020216T230000
TZNAME:-03
TZOFFSETFROM:-0200
TZOFFSETTO:-0300
END:STANDARD
END:VTIMEZONE
END:VCALENDAR
