BEGIN:VCALENDAR
VERSION:2.0
PRODID:-//Plone.org//NONSGML plone.app.event//EN
X-WR-TIMEZONE:America/Maceio
BEGIN:VEVENT
SUMMARY:Banca de Defesa de Dissertação
DTSTART;TZID=America/Maceio:20220701T140000
DTEND;TZID=America/Maceio:20220701T150000
DTSTAMP:20260421T085629Z
UID:ccec284ed059465aaa2b4454de3125c7@ip.ufal.br
ATTENDEE;CN="PROF. DR. CLEYTON SIDNEY DE ANDRADE - ORIENTADOR/PRESIDENTE;"
 ;ROLE=REQ-PARTICIPANT:PROF. DR. CLEYTON SIDNEY DE ANDRADE - ORIENTADOR/PRE
 SIDENTE;
ATTENDEE;CN="PROF. DR. LAWRENCE FLORES PEREIRA – UFSM - EXTERNO À INSTI
 TUIÇÃO;";ROLE=REQ-PARTICIPANT:PROF. DR. LAWRENCE FLORES PEREIRA – UFSM
  - EXTERNO À INSTITUIÇÃO;
ATTENDEE;CN="PROF. DR. PEDRO HELIODORO DE MORAES BRANCO TAVARES – UFSC -
  EXTERNO À INSTITUIÇÃO;";ROLE=REQ-PARTICIPANT:PROF. DR. PEDRO HELIODORO
  DE MORAES BRANCO TAVARES – UFSC - EXTERNO À INSTITUIÇÃO;
ATTENDEE;CN="PROFA. DRA. ANA CLARA MAGALHAES DE MEDEIROS – UFAL - EXTERN
 A AO PROGRAMA.";ROLE=REQ-PARTICIPANT:PROFA. DRA. ANA CLARA MAGALHAES DE ME
 DEIROS – UFAL - EXTERNA AO PROGRAMA.
CREATED:20220727T125526Z
DESCRIPTION:Banca de Defesa de Dissertação do discente Emmerson Viníciu
 s Duarte Barros Correia\, com o título: Macbeth\, a tragédia da equivoci
 dade\; e título em Inglês: Macbeth\, the tragedy of equivocity.
LAST-MODIFIED:20250702T221512Z
LOCATION:Google Meet
URL:https://ip.ufal.br/pt-br/pos-graduacao/pospsico/institucional/calendar
 io-de-defesas/2022/banca-de-defesa-de-dissertacao-8
END:VEVENT
BEGIN:VTIMEZONE
TZID:America/Maceio
X-LIC-LOCATION:America/Maceio
BEGIN:STANDARD
DTSTART:20020216T230000
TZNAME:-03
TZOFFSETFROM:-0200
TZOFFSETTO:-0300
END:STANDARD
END:VTIMEZONE
END:VCALENDAR
