BEGIN:VCALENDAR
VERSION:2.0
PRODID:-//Plone.org//NONSGML plone.app.event//EN
X-WR-TIMEZONE:America/Maceio
BEGIN:VEVENT
SUMMARY:Banca de Defesa de Dissertação
DTSTART;TZID=America/Maceio:20220425T140000
DTEND;TZID=America/Maceio:20220425T150000
DTSTAMP:20260421T085629Z
UID:4cb976c8f2a94c34b92e9fdd2b72ad50@ip.ufal.br
ATTENDEE;CN="Profa. Dra. Susane Vasconcelos Zanotti - UFAL - orientadora/p
 residente";ROLE=REQ-PARTICIPANT:Profa. Dra. Susane Vasconcelos Zanotti - U
 FAL - orientadora/presidente
ATTENDEE;CN="Prof. Dr. Amadeu de Oliveira Weinmann - UFRGS - Externo à In
 stituição";ROLE=REQ-PARTICIPANT:Prof. Dr. Amadeu de Oliveira Weinmann - 
 UFRGS - Externo à Instituição
ATTENDEE;CN="Prof. Dr. Charles Elias Lang - UFAL - examinador interno";ROL
 E=REQ-PARTICIPANT:Prof. Dr. Charles Elias Lang - UFAL - examinador interno
CREATED:20220530T111633Z
DESCRIPTION:Banca de Defesa de Dissertação de André Lucas Guedes de Sou
 za\, com o título: “Catfish: The TV Show e a atualidade da comédia dos
  sexos”. E com título em inglês: “Catfish: The TV Show and the actua
 lity of the Sex Comedy”.
LAST-MODIFIED:20250702T221512Z
LOCATION:Webconferência pelo Microsoft Teams
URL:https://ip.ufal.br/pt-br/pos-graduacao/pospsico/institucional/calendar
 io-de-defesas/2022/banca-de-defesa-de-dissertacao-3
END:VEVENT
BEGIN:VTIMEZONE
TZID:America/Maceio
X-LIC-LOCATION:America/Maceio
BEGIN:STANDARD
DTSTART:20020216T230000
TZNAME:-03
TZOFFSETFROM:-0200
TZOFFSETTO:-0300
END:STANDARD
END:VTIMEZONE
END:VCALENDAR
