BEGIN:VCALENDAR
VERSION:2.0
PRODID:-//Plone.org//NONSGML plone.app.event//EN
X-WR-TIMEZONE:America/Maceio
BEGIN:VEVENT
SUMMARY:Banca de Defesa de Dissertação
DTSTART;TZID=America/Maceio:20221216T143000
DTEND;TZID=America/Maceio:20221216T153000
DTSTAMP:20260421T085628Z
UID:f3f9dbe9cdd44104b3a3527ce99f03bd@ip.ufal.br
ATTENDEE;CN="PROFA. DRA. NADJA MARIA VIEIRA DA SILVA, ORIENTADORA/PRESIDEN
 TE;";ROLE=REQ-PARTICIPANT:PROFA. DRA. NADJA MARIA VIEIRA DA SILVA, ORIENTA
 DORA/PRESIDENTE;
ATTENDEE;CN="PROFA. DRA. ABDIZIA MARIA ALVES BARROS, CEDU/UFAL, EXTERNA AO
  PROGRAMA;";ROLE=REQ-PARTICIPANT:PROFA. DRA. ABDIZIA MARIA ALVES BARROS, C
 EDU/UFAL, EXTERNA AO PROGRAMA;
ATTENDEE;CN="PROFA. DRA. ANGELINA NUNES DE VASCONCELOS, PPGP, EXAMINADORA 
 INTERNA.";ROLE=REQ-PARTICIPANT:PROFA. DRA. ANGELINA NUNES DE VASCONCELOS, 
 PPGP, EXAMINADORA INTERNA.
CREATED:20221213T113925Z
DESCRIPTION:Banca de Defesa de Dissertação da discente Érika Patrícia 
 Gama Araújo\, com o título: O Salto para a Experiência Simbólica: um e
 studo sobre a mediação do educador na comunicação com bebês na creche
 \; e título em inglês: The Leap towards the Symbolic Experience: a study
  on the mediation of the educator in the communication with babies in the 
 day care center
LAST-MODIFIED:20250702T221512Z
LOCATION:Webconferência
URL:https://ip.ufal.br/pt-br/pos-graduacao/pospsico/institucional/calendar
 io-de-defesas/2022/banca-de-defesa-de-dissertacao-28
END:VEVENT
BEGIN:VTIMEZONE
TZID:America/Maceio
X-LIC-LOCATION:America/Maceio
BEGIN:STANDARD
DTSTART:20020216T230000
TZNAME:-03
TZOFFSETFROM:-0200
TZOFFSETTO:-0300
END:STANDARD
END:VTIMEZONE
END:VCALENDAR
