BEGIN:VCALENDAR
VERSION:2.0
PRODID:-//Plone.org//NONSGML plone.app.event//EN
X-WR-TIMEZONE:America/Maceio
BEGIN:VEVENT
SUMMARY:Banca de Defesa de Dissertação
DTSTART;TZID=America/Maceio:20221208T090000
DTEND;TZID=America/Maceio:20221208T100000
DTSTAMP:20260421T085628Z
UID:fb4e1fc46f9c402f94ddba97b7bff73b@ip.ufal.br
ATTENDEE;CN="PROF. DR. CLEYTON SIDNEY DE ANDRADE, ORIENTADOR/PRESIDENTE;";
 ROLE=REQ-PARTICIPANT:PROF. DR. CLEYTON SIDNEY DE ANDRADE, ORIENTADOR/PRESI
 DENTE;
ATTENDEE;CN="PROFA. DRA. ANDRÉA MÁRIS CAMPOS GUERRA, UFMG, EXTERNA À IN
 STITUIÇÃO;";ROLE=REQ-PARTICIPANT:PROFA. DRA. ANDRÉA MÁRIS CAMPOS GUERR
 A, UFMG, EXTERNA À INSTITUIÇÃO;
ATTENDEE;CN="PROF. DR. FREDERICO ALVES COSTA, PPGP, EXAMINADOR INTERNO.";R
 OLE=REQ-PARTICIPANT:PROF. DR. FREDERICO ALVES COSTA, PPGP, EXAMINADOR INTE
 RNO.
CREATED:20221213T113714Z
DESCRIPTION:Banca de Defesa de Dissertação da discente Ana Eliza da Roch
 a Lima\, com o título: Torções da Lei: o dentro e o fora\; e título em
  inglês: Twists of the law: the inside and the outside
LAST-MODIFIED:20250702T221512Z
LOCATION:Webconferência
URL:https://ip.ufal.br/pt-br/pos-graduacao/pospsico/institucional/calendar
 io-de-defesas/2022/banca-de-defesa-de-dissertacao-27
END:VEVENT
BEGIN:VTIMEZONE
TZID:America/Maceio
X-LIC-LOCATION:America/Maceio
BEGIN:STANDARD
DTSTART:20020216T230000
TZNAME:-03
TZOFFSETFROM:-0200
TZOFFSETTO:-0300
END:STANDARD
END:VTIMEZONE
END:VCALENDAR
