BEGIN:VCALENDAR
VERSION:2.0
PRODID:-//Plone.org//NONSGML plone.app.event//EN
X-WR-TIMEZONE:America/Maceio
BEGIN:VEVENT
SUMMARY:Banca de Defesa de Dissertação
DTSTART;TZID=America/Maceio:20221201T140000
DTEND;TZID=America/Maceio:20221201T150000
DTSTAMP:20260421T085628Z
UID:02addea5df0c413db1f3e49f48024732@ip.ufal.br
ATTENDEE;CN="PROFA. DRA. MARIA AUXILIADORA TEIXEIRA RIBEIRO, ORIENTADORA/P
 RESIDENTE;";ROLE=REQ-PARTICIPANT:PROFA. DRA. MARIA AUXILIADORA TEIXEIRA RI
 BEIRO, ORIENTADORA/PRESIDENTE;
ATTENDEE;CN="PROFA. DRA. ESTHER MARIA DE MAGALHÃES ARANTES, UERJ, EXTERNA
  À INSTITUIÇÃO;";ROLE=REQ-PARTICIPANT:PROFA. DRA. ESTHER MARIA DE MAGAL
 HÃES ARANTES, UERJ, EXTERNA À INSTITUIÇÃO;
ATTENDEE;CN="PROF. DR. JEFFERSON DE SOUZA BERNARDES, PPGP, EXAMINADOR INTE
 RNO.";ROLE=REQ-PARTICIPANT:PROF. DR. JEFFERSON DE SOUZA BERNARDES, PPGP, E
 XAMINADOR INTERNO.
CREATED:20221213T113436Z
DESCRIPTION:Banca de Defesa de Dissertação da discente Eline Soares Firm
 o\, com o título: Práticas Psicológicas relacionadas à garantia do dir
 eito à adoção\, convivência familiar e comunitária\; e título em ing
 lês: Psychological Practices related to the guarantee of the right to ado
 ption\, family and community coexistence
LAST-MODIFIED:20250702T221512Z
LOCATION:Webconferência
URL:https://ip.ufal.br/pt-br/pos-graduacao/pospsico/institucional/calendar
 io-de-defesas/2022/banca-de-defesa-de-dissertacao-26
END:VEVENT
BEGIN:VTIMEZONE
TZID:America/Maceio
X-LIC-LOCATION:America/Maceio
BEGIN:STANDARD
DTSTART:20020216T230000
TZNAME:-03
TZOFFSETFROM:-0200
TZOFFSETTO:-0300
END:STANDARD
END:VTIMEZONE
END:VCALENDAR
