BEGIN:VCALENDAR
VERSION:2.0
PRODID:-//Plone.org//NONSGML plone.app.event//EN
X-WR-TIMEZONE:America/Maceio
BEGIN:VEVENT
SUMMARY:Banca de Defesa de Dissertação
DTSTART;TZID=America/Maceio:20221130T140000
DTEND;TZID=America/Maceio:20221130T150000
DTSTAMP:20260421T085628Z
UID:e51f17e4336a4f6f86473e1e89f09ab1@ip.ufal.br
ATTENDEE;CN="PROF. DR. MARCOS RIBEIRO MESQUITA, ORIENTADOR/PRESIDENTE;";RO
 LE=REQ-PARTICIPANT:PROF. DR. MARCOS RIBEIRO MESQUITA, ORIENTADOR/PRESIDENT
 E;
ATTENDEE;CN="PROFA. DRA. JAILEILA DE ARAÚJO MENEZES, UFPE, EXTERNA À INS
 TITUIÇÃO;";ROLE=REQ-PARTICIPANT:PROFA. DRA. JAILEILA DE ARAÚJO MENEZES,
  UFPE, EXTERNA À INSTITUIÇÃO;
ATTENDEE;CN="PROFA. DRA. AMANA ROCHA MATTOS, UERJ, EXTERNA À INSTITUIÇÃ
 O.";ROLE=REQ-PARTICIPANT:PROFA. DRA. AMANA ROCHA MATTOS, UERJ, EXTERNA À 
 INSTITUIÇÃO.
CREATED:20221213T113205Z
DESCRIPTION:Banca de Defesa de Dissertação da discente Robson Aparecido 
 da Costa Silva\, com o título: O armário entre jovens gays no Sertão do
  Pajeú\; e título em inglês: The closet among gay young people in the S
 ertão do Pajeú
LAST-MODIFIED:20250702T221512Z
LOCATION:Webconferência
URL:https://ip.ufal.br/pt-br/pos-graduacao/pospsico/institucional/calendar
 io-de-defesas/2022/banca-de-defesa-de-dissertacao-25
END:VEVENT
BEGIN:VTIMEZONE
TZID:America/Maceio
X-LIC-LOCATION:America/Maceio
BEGIN:STANDARD
DTSTART:20020216T230000
TZNAME:-03
TZOFFSETFROM:-0200
TZOFFSETTO:-0300
END:STANDARD
END:VTIMEZONE
END:VCALENDAR
