BEGIN:VCALENDAR
VERSION:2.0
PRODID:-//Plone.org//NONSGML plone.app.event//EN
X-WR-TIMEZONE:America/Maceio
BEGIN:VEVENT
SUMMARY:Banca de Defesa de Dissertação
DTSTART;TZID=America/Maceio:20221103T090000
DTEND;TZID=America/Maceio:20221103T100000
DTSTAMP:20260421T085628Z
UID:cbc3abfd2e264296b7bd8fa73d98b010@ip.ufal.br
ATTENDEE;CN="PROF. DR. MARCOS RIBEIRO MESQUITA, ORIENTADOR/PRESIDENTE;";RO
 LE=REQ-PARTICIPANT:PROF. DR. MARCOS RIBEIRO MESQUITA, ORIENTADOR/PRESIDENT
 E;
ATTENDEE;CN="PROF. DR. CEZAR NONATO BEZERRA CANDEIAS, CEDU/UFAL, EXTERNO A
 O PROGRAMA;";ROLE=REQ-PARTICIPANT:PROF. DR. CEZAR NONATO BEZERRA CANDEIAS,
  CEDU/UFAL, EXTERNO AO PROGRAMA;
ATTENDEE;CN="PROFA. DRA. MARÍLIA SILVEIRA, PPGP, EXAMINADORA INTERNA.";RO
 LE=REQ-PARTICIPANT:PROFA. DRA. MARÍLIA SILVEIRA, PPGP, EXAMINADORA INTERN
 A.
CREATED:20221213T112936Z
DESCRIPTION:Banca de Defesa de Dissertação da discente Kássia Magaly Ol
 iveira da Costa Sarmento\, com o título: Mulheres e Economia Solidária e
 m Flexeiras (AL): trabalho cooperado\, geração de renda e autonomia\; e 
 título em inglês: Women and Solidarity Economy in Flexeiras (AL): cooper
 ated work\, income generation and autonomy.
LAST-MODIFIED:20250702T221512Z
LOCATION:Webconferência
URL:https://ip.ufal.br/pt-br/pos-graduacao/pospsico/institucional/calendar
 io-de-defesas/2022/banca-de-defesa-de-dissertacao-24
END:VEVENT
BEGIN:VTIMEZONE
TZID:America/Maceio
X-LIC-LOCATION:America/Maceio
BEGIN:STANDARD
DTSTART:20020216T230000
TZNAME:-03
TZOFFSETFROM:-0200
TZOFFSETTO:-0300
END:STANDARD
END:VTIMEZONE
END:VCALENDAR
